BEGIN:VCALENDAR
PRODID:NingEventWidget-v1
VERSION:2.0
METHOD:PUBLISH
BEGIN:VTIMEZONE
TZID:America/Anguilla
X-LIC-LOCATION:America/Anguilla
BEGIN:STANDARD
TZOFFSETFROM:-0400
TZOFFSETTO:-0400
TZNAME:AST
DTSTART:19700101T000000
END:STANDARD
END:VTIMEZONE
BEGIN:VEVENT
UID:5831649:Event:35865
DTSTAMP:20260419T193907Z
SUMMARY:Send for a Million Men // Joseph Silovsky // Culturemart
DESCRIPTION:Send for the Million Men is a gallery exhibition and solo
  stage performance about the trial and execution of Sacco and Vanzetti
 , two anarchists accused of a payroll robbery in Massachusetts. Using 
 his unique blend of robotics, puppets, and hand made projectors, Silov
 sky paints the story of these two men and their effect on the world du
 ring the turbulent 1920s.\n\nFor more information visit http://conecto
 m.leimay.org/events/send-for-a-million-men-joseph-silovsky-culturemart
 -1
DTSTART;TZID=America/Anguilla:20130207T190000
DTEND;TZID=America/Anguilla:20130207T203000
CATEGORIES:"solo stage", "video projection", "anarchists in massachuse
 tts"
LOCATION:HERE Arts Center
WEBSITE:http://www.here.org/shows/detail/1120/
URL:http://www.here.org/shows/detail/1120/
CONTACT:
ORGANIZER:
ATTACH;FMTTYPE="image/jpeg":http://storage.ning.com/topology/rest/1.0/
 file/get/111735917?profile=original
ATTENDEE;ROLE=REQ-PARTICIPANT;PARTSTAT=ACCEPTED;RSVP=TRUE;CN="mike dot
 hal":http://conectom.leimay.org/profile/mikedothal
ATTENDEE;ROLE=REQ-PARTICIPANT;PARTSTAT=ACCEPTED;RSVP=TRUE;CN="Raul Zbe
 ngheci":http://conectom.leimay.org/profile/RaulZbengheci
END:VEVENT
END:VCALENDAR
