BEGIN:VCALENDAR
PRODID:NingEventWidget-v1
VERSION:2.0
METHOD:PUBLISH
BEGIN:VTIMEZONE
TZID:America/Anguilla
X-LIC-LOCATION:America/Anguilla
BEGIN:STANDARD
TZOFFSETFROM:-0400
TZOFFSETTO:-0400
TZNAME:AST
DTSTART:19700101T000000
END:STANDARD
END:VTIMEZONE
BEGIN:VEVENT
UID:5831649:Event:35952
DTSTAMP:20260422T131119Z
SUMMARY:Science Fair // Culturemart
DESCRIPTION:cience Fair is an opera singer's love-song to the scienti
 fic worldview and the scientists who practice and promote it. Conceive
 d and performed by mezzo-soprano Hai-Ting Chinn, Science Fairconsists
  of actual scientific texts turned into art-songs by various new-music
  composers. Each song is sonically tied to a live scientific demonstra
 tion, and they are strung together as a staged cycle that uses both el
 egance and humor to illuminate the processes of science.\n \nTICKETS 
 $15\n\nFor more information visit http://conectom.leimay.org/events/sc
 ience-fair-culturemart
DTSTART;TZID=America/Anguilla:20130205T203000
DTEND;TZID=America/Anguilla:20130205T220000
CATEGORIES:"science opera", culturemart, "songs from science texts"
LOCATION:HERE Arts Center
WEBSITE:http://here.org/shows/detail/819/
URL:http://here.org/shows/detail/819/
CONTACT:
ORGANIZER:
ATTACH;FMTTYPE="image/jpeg":http://storage.ning.com/topology/rest/1.0/
 file/get/111735745?profile=original
ATTENDEE;ROLE=REQ-PARTICIPANT;PARTSTAT=ACCEPTED;RSVP=TRUE;CN="Raul Zbe
 ngheci":http://conectom.leimay.org/profile/RaulZbengheci
END:VEVENT
END:VCALENDAR
