BEGIN:VCALENDAR
PRODID:NingEventWidget-v1
VERSION:2.0
METHOD:PUBLISH
BEGIN:VTIMEZONE
TZID:America/Anguilla
X-LIC-LOCATION:America/Anguilla
BEGIN:STANDARD
TZOFFSETFROM:-0400
TZOFFSETTO:-0400
TZNAME:AST
DTSTART:19700101T000000
END:STANDARD
END:VTIMEZONE
BEGIN:VEVENT
UID:5831649:Event:37106
DTSTAMP:20260424T041340Z
SUMMARY:Sanguivorous - Starring Ko Morobushi and scored live!
DESCRIPTION:Japanese vampire movie?! With LIVE MUSIC!? You know you wa
 nt to be there! So stay At Home-with us, Sunday night!  Sanguivorous â
 €“ A young woman suffering from mysterious physical ailments is horrif
 ied to discover that sheâ€™s descended from generations of vampires. W
 hen with her boyfriend, she struggles to control her peculiar appetite
 . But itâ€™s in her bloodâ€¦Â   Sanguivorous is written and directed b
 y Japanese filmmaker Naoki Yoshimoto and features the renowned avant-g
 arde butoh dancer Ko Murobushi.Â   Performers: Tatsuya Nakatani (percu
 ssion), originally from Osaka, Japan, invents his own instruments to c
 reate an intense, organic sound that defies category or genre. His mus
 ic is grounded in improvisation, yet it retains the sense of space and
  beauty found in traditional Japanese folk music. Nakatani has release
 d nearly 50 recordings on CD.  Edward Wilkerson, Jr. (saxophone) is in
 ternationally recognized as one of the great saxophonists to come out 
 of the Chicago music scene. Founder of the trailblazing octet 8 Bold S
 ouls, Wilkerson has toured throughout the United States, Japan, Europe
 , and the Middle East. A long-time member of Chicagoâ€™s celebrated AA
 CM (Association for the Advancement of Creative Musicians), his music 
 can be heard on over 20 recordings, including two film soundtracks.\n\
 nFor more information visit http://conectom.leimay.org/events/sanguivo
 rous
DTSTART;TZID=America/Anguilla:20130331T190000
DTEND;TZID=America/Anguilla:20130331T210000
CATEGORIES:movie, screening
LOCATION:CAVE
WEBSITE:http://www.cavearts.org/?p=563
URL:http://www.cavearts.org/?p=563
CONTACT:718 388 6780
ORGANIZER:LEIMAY-CAVE Staff
ATTACH;FMTTYPE="image/jpeg":http://storage.ning.com/topology/rest/1.0/
 file/get/111735997?profile=original
ATTENDEE;ROLE=REQ-PARTICIPANT;PARTSTAT=ACCEPTED;RSVP=TRUE;CN="Theresa 
 Magario tm":http://conectom.leimay.org/profile/TheresaMagario_tm
END:VEVENT
END:VCALENDAR
