BEGIN:VCALENDAR
PRODID:NingEventWidget-v1
VERSION:2.0
METHOD:PUBLISH
BEGIN:VTIMEZONE
TZID:America/Anguilla
X-LIC-LOCATION:America/Anguilla
BEGIN:STANDARD
TZOFFSETFROM:-0400
TZOFFSETTO:-0400
TZNAME:AST
DTSTART:19700101T000000
END:STANDARD
END:VTIMEZONE
BEGIN:VEVENT
UID:5831649:Event:34572
DTSTAMP:20260419T080307Z
SUMMARY:Robert Whitman // Inside Out
DESCRIPTION:Robert Whitman has been a pioneer and central protagonist 
 of New York's 1960s new art movements. Today, his work, ideas and meth
 odology can be seen to have a far-reaching impact on contemporary prac
 tice in the New York and broader international art scene. His performa
 nces and installations are exceptional fixed points within the collect
 ive aesthetic memory of the last four decades of U.S. art practice - t
 hus giving his work a near meta- historical perspective of reception. 
 Vitally, having been at the core of the radical movements of his early
  days, Whitman's work might be regarded today as an allegory of art ma
 king itself.\n\n\nIn our first project with Robert Whitman at BROADWAY
  1602 we present Window (1963) restored in its original form - one of 
 the artist's most spectacular early film installations. The visual log
 ic of Window is a restricted and directed view through a window sittin
 g in a paneled wall. Outside (or inside) the illusionary room one sees
  through the window a 16mm film projection loop of a woman disrobing a
 nd cavorting in the woods. Branches and foliage frame the film and ext
 end the filmic core image towards the reality of the locked-out viewer
 .\n\nInside Out will be presented during the Opening reception of the 
 show on January 19th. A second staging of the performance during the r
 un of the exhibition will be filmed by Babette Mangolte, who photograp
 hed Robert Whitman's performance \"Light Touch\" in 1976.\n\nFor more 
 information visit http://conectom.leimay.org/events/robert-whitman-ins
 ide-out
DTSTART;TZID=America/Anguilla:20130119T190000
DTEND;TZID=America/Anguilla:20130119T200000
CATEGORIES:"gallery performance", "opening night", "robert whitman", i
 nstallation, "conceptual spaces"
LOCATION:Broadway 1602
WEBSITE:http://www.broadway1602.com/home.html
URL:http://www.broadway1602.com/home.html
CONTACT:
ORGANIZER:
ATTACH;FMTTYPE="image/jpeg":http://storage.ning.com/topology/rest/1.0/
 file/get/111735650?profile=original
ATTENDEE;ROLE=REQ-PARTICIPANT;PARTSTAT=ACCEPTED;RSVP=TRUE;CN="Raul Zbe
 ngheci":http://conectom.leimay.org/profile/RaulZbengheci
END:VEVENT
END:VCALENDAR
