BEGIN:VCALENDAR
PRODID:NingEventWidget-v1
VERSION:2.0
METHOD:PUBLISH
BEGIN:VTIMEZONE
TZID:America/Anguilla
X-LIC-LOCATION:America/Anguilla
BEGIN:STANDARD
TZOFFSETFROM:-0400
TZOFFSETTO:-0400
TZNAME:AST
DTSTART:19700101T000000
END:STANDARD
END:VTIMEZONE
BEGIN:VEVENT
UID:5831649:Event:43200
DTSTAMP:20260424T070216Z
SUMMARY:RESTLESS PRESENCE 2-DAY WORKSHOP with Maximilian Balduzzi
DESCRIPTION:RESTLESS PRESENCE 2-day workshop with Maximilian Balduzzi*
   \"For beauty is nothing but the beginning of terror which we are bar
 ely able to endure, and it amazes us so, because it serenely disdains 
 to destroy us.\" Rainer Maria Rilke, Duino Elegies  How to learn rigor
 ous technical exercises while practicing presence? How to be present d
 uring the breaks and the breaths between those exercises?  RESTLESS PR
 ESENCE is a workshop open to performers, actors, dancers and artists f
 rom other disciplines and whoever is interested in searching for a res
 tless presence inside and outside the studio.  The workshop is made of
  two parts. During the first part we will work with physical and vocal
  exercises/actions developed over 15 years of Maximilian Balduzzi’s 
 practice that focus on impulse and stop, rhythm, opposition. This trai
 ning allows participants to become more deeply connected to their own 
 intuitions and impulses and better able to respond to them truthfully,
  fearlessly, and joyfully. Through this work, we are freed from the co
 nstraints of habit and reconnected with the self, which in turn allows
  us to connect with others in the moment.  With the second part of the
  workshop we will work with a costume (you will be asked to bring some
 thing formal/elegant, as if you are secretly invited to a mysterious p
 arty), adapting the exercises/actions practiced in the first part as a
  way to structure a performance playground. We will play as individual
 s (searching for the voice and movement of a character) and as a group
  (creating a situation where will be possible to test creatively our p
 resence).  RESTLESS PRESENCE is open to a maximum of 10 participants. 
  When: November 9th and 10th (Saturday and Sunday) from 10am to 3pm Wh
 ere: CAVE, 58 Grand street, Williamsburg. Fee: 180 $ (work study optio
 ns available, please contact mb@massimilianobalduzzi.com for more info
 rmation.) Registration: to secure your spot, please follow this link a
 nd click on the PayPal button to pay the deposit ($90): http://www.ma
 ssimilianobalduzzi.com/workshops The remaining balance will be due at 
 the beginning of the workshop - in cash or personal check.  Please not
 e: The deposit fee is non-refundable but it can be used as credit towa
 rds future workshops.  *If you want to learn more about Maximilian and
  his work, please visit: http://www.massimilianobalduzzi.com/  photo 
 by Sara Pettinella\n\nFor more information visit http://conectom.leim
 ay.org/events/restless-presence-2-day-workshop-with-maximilian-balduzz
 i
DTSTART;TZID=America/Anguilla:20131109T100000
DTEND;TZID=America/Anguilla:20131109T150000
CATEGORIES:workshop
LOCATION:CAVE
WEBSITE:http://leimaymain.cavearts.org/?page_id=50
URL:http://leimaymain.cavearts.org/?page_id=50
CONTACT:
ORGANIZER;CN="maximilian balduzzi":http://conectom.leimay.org/profile/
 maximilianbalduzzi
ATTACH;FMTTYPE="image/jpeg":http://storage.ning.com/topology/rest/1.0/
 file/get/111737891?profile=original
ATTENDEE;ROLE=REQ-PARTICIPANT;PARTSTAT=ACCEPTED;RSVP=TRUE;CN="maximili
 an balduzzi":http://conectom.leimay.org/profile/maximilianbalduzzi
END:VEVENT
END:VCALENDAR
