BEGIN:VCALENDAR
PRODID:NingEventWidget-v1
VERSION:2.0
METHOD:PUBLISH
BEGIN:VTIMEZONE
TZID:America/Anguilla
X-LIC-LOCATION:America/Anguilla
BEGIN:STANDARD
TZOFFSETFROM:-0400
TZOFFSETTO:-0400
TZNAME:AST
DTSTART:19700101T000000
END:STANDARD
END:VTIMEZONE
BEGIN:VEVENT
UID:5831649:Event:38221
DTSTAMP:20260424T172146Z
SUMMARY:RANDY zine presents: STOP CALLING ME NAMES // MoMA PS1
DESCRIPTION:Randy Zine, an international queer arts publication, prese
 nts STOP CALLING ME NAMES, an afternoon of readings, video, sound and
  performances. As an exploratory platform for artists, writers, curato
 rs and dreamers, Randy houses the conversations we care about. The e
 vent features a dance performance by Niv Acosta, dramatic readings by 
 Jess Arndt, a video work by Meriem Bennani and live performances by Co
 lin Self and boychild, among others.\n\nFor more information visit htt
 p://conectom.leimay.org/events/randy-zine-presents-stop-calling-me-nam
 es-moma-ps1
DTSTART;TZID=America/Anguilla:20130324T150000
DTEND;TZID=America/Anguilla:20130324T180000
CATEGORIES:"queer performance", "sunday sessions", "moma ps1"
LOCATION:MoMA PS1
WEBSITE:http://www.momaps1.org/calendar/view/410/
URL:http://www.momaps1.org/calendar/view/410/
CONTACT:
ORGANIZER:
ATTACH;FMTTYPE="image/jpeg":http://storage.ning.com/topology/rest/1.0/
 file/get/111736162?profile=original
ATTENDEE;ROLE=REQ-PARTICIPANT;PARTSTAT=ACCEPTED;RSVP=TRUE;CN="Raul Zbe
 ngheci":http://conectom.leimay.org/profile/RaulZbengheci
END:VEVENT
END:VCALENDAR
