BEGIN:VCALENDAR
PRODID:NingEventWidget-v1
VERSION:2.0
METHOD:PUBLISH
BEGIN:VTIMEZONE
TZID:America/Anguilla
X-LIC-LOCATION:America/Anguilla
BEGIN:STANDARD
TZOFFSETFROM:-0400
TZOFFSETTO:-0400
TZNAME:AST
DTSTART:19700101T000000
END:STANDARD
END:VTIMEZONE
BEGIN:VEVENT
UID:5831649:Event:39184
DTSTAMP:20260420T162808Z
SUMMARY:POST DANCE 3X3
DESCRIPTION:JUNE 6th, 20138pm\nTYKE Dance“The Bloodgates”\n*X*\nRe
 ne Kladzyk“CROWNWORC”\n*X*\nSura Hertzberg Dancers“(italics) Thi
 s is Art?”\nMORE INFORMATION:\nThe Bloodgates is an attempt to take 
 some of the invisible elements of dance performance that make it so 
 magical’ in the moment – such as heat and breath and sweat and st
 ruggle – and make them visible, yet queered, troubled, abstracted, g
 ruesome.Lighting Design: The Vigilante Design GroupSound Design: Erik 
 LawsonDancers: Greta Hartenstein and Sophie Sotsky\nCROWNWORC performa
 nce draws from practices of trance and possession that Kladzyck observ
 ed while on an artistic residency at a pilgrimage site in the Atlas Mo
 untains (Morocco), and utilizes movement, sound, and dynamic costume t
 o explore relationships of trust, weight and ethereality, intimacy amo
 ng strangers, and plurality within.\n(italics) This is Art? is an expl
 oration of many aspects of art. It breaks open the relationship betwee
 n the audience and the performer, it bridges the gap between art and s
 tream of consciousness, it provides a diorama of solo choreography. Th
 is work is all at once challenging, humorous, self reflective, and deb
 ilitatingly human.\n\nFor more information visit http://conectom.leima
 y.org/events/post-dance-3x3
DTSTART;TZID=America/Anguilla:20130606T200000
DTEND;TZID=America/Anguilla:20130606T213000
CATEGORIES:"post dance", "choreography explorations", "panoply perform
 ance lab"
LOCATION:Panoply Performance Laboratory
WEBSITE:http://panoplylab.org/space/?tag=rene-kladzyk
URL:http://panoplylab.org/space/?tag=rene-kladzyk
CONTACT:
ORGANIZER:
ATTACH;FMTTYPE="image/jpeg":http://storage.ning.com/topology/rest/1.0/
 file/get/111736445?profile=original
ATTENDEE;ROLE=REQ-PARTICIPANT;PARTSTAT=ACCEPTED;RSVP=TRUE;CN="Raul Zbe
 ngheci":http://conectom.leimay.org/profile/RaulZbengheci
END:VEVENT
END:VCALENDAR
