BEGIN:VCALENDAR
PRODID:NingEventWidget-v1
VERSION:2.0
METHOD:PUBLISH
BEGIN:VTIMEZONE
TZID:America/Anguilla
X-LIC-LOCATION:America/Anguilla
BEGIN:STANDARD
TZOFFSETFROM:-0400
TZOFFSETTO:-0400
TZNAME:AST
DTSTART:19700101T000000
END:STANDARD
END:VTIMEZONE
BEGIN:VEVENT
UID:5831649:Event:23705
DTSTAMP:20260419T175746Z
SUMMARY:PLAYWAR at Abrons Arts Center
DESCRIPTION:Urban Research Theater presents\nPLAYWAR\ncreated and perf
 ormed by Maximilian Balduzzi and Ben Spatz   Abrons Arts Center Janua
 ry 26 - 28 | February 2 - 4 Thursday, Friday, and Saturday @ 8pmOnly s
 ix performances! Get your tickets now! PLAYWAR is a new work of conte
 mporary performance that dynamically grapples with issues of intimacy 
 and aggression, truth and spectacle, hope and despair. Bringing togeth
 er all of Urban Research Theater's work on new theatrical forms, PLAYW
 AR is a virtuosic duet on the pleasures of conspiracy and the terrors 
 of communion.\nAs the two performers face off in what may be a pre-apo
 calyptic scenario, spectators find themselves increasingly pulled into
  a world of expressive action and poetic association far beyond the co
 nfines of realism. Evoking the collision of decadence and terrorism in
  the 21st century, PLAYWAR is a testimony to the current moment.\nWith
  original songs, movement, and text.\n\n\nFor more information visit h
 ttp://conectom.leimay.org/events/playwar-at-abrons-arts-center
DTSTART;TZID=America/Anguilla:20120126T200000
DTEND;TZID=America/Anguilla:20120204T220000
CATEGORIES:performance
LOCATION:Abrons Arts Center
WEBSITE:http://www.urbanresearchtheater.com/site/perf_playwar.htm
URL:http://www.urbanresearchtheater.com/site/perf_playwar.htm
CONTACT:
ORGANIZER;CN="Ben Spatz":http://conectom.leimay.org/profile/BenSpatz
ATTACH;FMTTYPE="image/jpeg":http://storage.ning.com/topology/rest/1.0/
 file/get/111733632?profile=original
ATTENDEE;ROLE=REQ-PARTICIPANT;PARTSTAT=ACCEPTED;RSVP=TRUE;CN="Ben Spat
 z":http://conectom.leimay.org/profile/BenSpatz
END:VEVENT
END:VCALENDAR
