BEGIN:VCALENDAR
PRODID:NingEventWidget-v1
VERSION:2.0
METHOD:PUBLISH
BEGIN:VTIMEZONE
TZID:America/Anguilla
X-LIC-LOCATION:America/Anguilla
BEGIN:STANDARD
TZOFFSETFROM:-0400
TZOFFSETTO:-0400
TZNAME:AST
DTSTART:19700101T000000
END:STANDARD
END:VTIMEZONE
BEGIN:VEVENT
UID:5831649:Event:10205
DTSTAMP:20260426T003219Z
SUMMARY:Piercing Butoh at the Ferment Series
DESCRIPTION:Friday May 27, 2011 - 8pmSaturday May 28, 2011 - 3pm (mati
 nee)Butoh Introduction by Tanya Calamoneri followed by a group piece w
 ith Theresa Magario tm, Julie Spodek and Stephanie Lanckton choreograp
 hed by Daiji Meguro.Door opens at 7:30 & 2:30 performance program star
 ts promptly at 8pm and 3pm and runs fifty minutes.ANDSaturday May 28, 
 2011 - 8pmSunday May 29, 2011 - 3pm (matinee)Solo Performances by Matt
 hew de Leon,Theresa Magario tm, Andy Miyamotto, Seyhan Musaoglu, Hiram
  Pines, Julie Spodek and Naida Zukic. Directed by Ximena Garnica.Admis
 sion:$7 to $10 sliding scale general admission$6 CAVEnexus members wit
 h profile print out (make sure you have a profile photo!)Box office op
 ens one hour before show time @ CAVE: 58 Grand Street, Brooklyn NY 11
 211RSVP is encouraged. Please send e-mail to <studio@caveartspace.org>
 . In order to hold you reservation you must arrive at least 15 minute
 s before scheduled time.Ferment Series is CAVE's platform for the deve
 lopment of new work, by dancers, actors, and interdisciplinary perform
 ers who are in residency at CAVE or have been participants of CAVE's v
 arious training initiatives now under the umbrella of LUDUS educationa
 l program.\n\nFor more information visit http://conectom.leimay.org/ev
 ents/piercing-butoh-at-the-ferment
DTSTART;TZID=America/Anguilla:20110527T200000
DTEND;TZID=America/Anguilla:20110529T150000
CATEGORIES:performance
LOCATION:CAVE
WEBSITE:
URL:
CONTACT:
ORGANIZER;CN=LEIMAY:http://conectom.leimay.org/profile/LEIMAY
ATTACH;FMTTYPE="image/jpeg":http://storage.ning.com/topology/rest/1.0/
 file/get/111733490?profile=original
ATTENDEE;ROLE=REQ-PARTICIPANT;PARTSTAT=ACCEPTED;RSVP=TRUE;CN="Theresa 
 Magario tm":http://conectom.leimay.org/profile/TheresaMagario_tm
ATTENDEE;ROLE=REQ-PARTICIPANT;PARTSTAT=ACCEPTED;RSVP=TRUE;CN=LEIMAY:ht
 tp://conectom.leimay.org/profile/LEIMAY
END:VEVENT
END:VCALENDAR
