BEGIN:VCALENDAR
PRODID:NingEventWidget-v1
VERSION:2.0
METHOD:PUBLISH
BEGIN:VTIMEZONE
TZID:America/Anguilla
X-LIC-LOCATION:America/Anguilla
BEGIN:STANDARD
TZOFFSETFROM:-0400
TZOFFSETTO:-0400
TZNAME:AST
DTSTART:19700101T000000
END:STANDARD
END:VTIMEZONE
BEGIN:VEVENT
UID:5831649:Event:40351
DTSTAMP:20260420T125944Z
SUMMARY:PI = 3.14â€¦ : Ramallah-Fukushima-Bogota
DESCRIPTION:Ï€=3.14â€¦Ramallah-Fukushima-Bogota Endless Peripheral Bor
 der Concept, Design, & Choreography by Yoshiko Chuma Featuring Rebecca
  Medina, Coque Salcedo,Â Mina Nishimura, Tatyana Tenenbaum, Felipe Gom
 ez Ossa, Yoshiko Chuma with special guest Aska Kaneko (violin) Â \n\nÏ
 €=3.14â€¦Ramallah-Fukushima-Bogota Endless Peripheral BorderÂ is a con
 tinuation of this documentation performances by Yoshiko Chuma Cutting-
 edge choreographer/ director/ performer Yoshiko Chuma continues a life
 time obsession with the mythology of danger.\n\nInÂ Ï€Â =3.14â€¦Ramall
 ah-Fukushima-Bogota, she intentionally confuses documentation with his
 tory, recreating steep segments from her own documented events in Rama
 llah, Fukushima, and Bogota. Chuma assembles a mosaic of dancers, imag
 es, filmed interviews and musical selections whose content has the eff
 ect of framing theater with barbed wire. Daguerreotype Takashi Arai Vi
 deo Installation Kit Fitzgerald Sound Composition Christopher McIntyre
  Costumes Gabriel Berry Â \n\nExhibition July 11, 12, 13, & 14, 2013\n
 Gallery Hours: Thu-Sat, 1-7pm; Sun, 1-5pm (free admission) Â  Performa
 nce Installation July 11, 12, 13, & 14, 2013\nThu-Sat, 7:30pm; Sun 5pm
  (Seating starts at 6pm/Thu-Sat; 4pm/Sun)\nAdmission: $15\nJuly 11 Ope
 ning Night with Salsa Dance Party: $20\nNo cash sales at the door â€“ 
 Credit Card or Check only. There will be a fee for credit card purchas
 es. - See more at: http://lamama.org/lagalleria/pi-3-14-ramallah-fukus
 hima-bogota/#sthash.1lUG1ot8.dpuf\n\nFor more information visit http:/
 /conectom.leimay.org/events/pi-3-14-ramallah-fukushima-bogota
DTSTART;TZID=America/Anguilla:20130711T190000
DTEND;TZID=America/Anguilla:20130714T210000
CATEGORIES:"cryptic theater", "experimental theater", "performance art
 ", lamama
LOCATION:La MaMa
WEBSITE:http://lamama.org/lagalleria/pi-3-14-ramallah-fukushima-bogota
 /
URL:http://lamama.org/lagalleria/pi-3-14-ramallah-fukushima-bogota/
CONTACT:
ORGANIZER:
ATTACH;FMTTYPE="image/jpeg":http://storage.ning.com/topology/rest/1.0/
 file/get/111737178?profile=original
ATTENDEE;ROLE=REQ-PARTICIPANT;PARTSTAT=ACCEPTED;RSVP=TRUE;CN="Raul Zbe
 ngheci":http://conectom.leimay.org/profile/RaulZbengheci
END:VEVENT
END:VCALENDAR
