BEGIN:VCALENDAR
PRODID:NingEventWidget-v1
VERSION:2.0
METHOD:PUBLISH
BEGIN:VTIMEZONE
TZID:America/Anguilla
X-LIC-LOCATION:America/Anguilla
BEGIN:STANDARD
TZOFFSETFROM:-0400
TZOFFSETTO:-0400
TZNAME:AST
DTSTART:19700101T000000
END:STANDARD
END:VTIMEZONE
BEGIN:VEVENT
UID:5831649:Event:75563
DTSTAMP:20260424T010257Z
SUMMARY:Performance Studio Open House (PSOH)
DESCRIPTION:\nPerformance Studio Open House presents works-in-progress
  and a discussion with the artists about the development process for n
 ew movement and dance.\nPSOH: April features work by Abigail Levine, M
 aritea Daehlin, & Molly Lieber and Eleanor Smith\n\nPost-showing discu
 ssion moderated by Jen McGinn.\n\nFree admission. $5 donation encoura
 ged at the door (cash only).\n\nFor more information visit http://cone
 ctom.leimay.org/events/performance-studio-open-house-psoh
DTSTART;TZID=America/Anguilla:20170425T200000
DTEND;TZID=America/Anguilla:20170425T210000
CATEGORIES:performance
LOCATION:Center for Performance Research
WEBSITE:http://www.cprnyc.org/events/performance-studio-open-house-apr
 il/
URL:http://www.cprnyc.org/events/performance-studio-open-house-april/
CONTACT:7183491210
ORGANIZER;CN="Center for Performance Research":http://conectom.leimay.
 org/profile/CenterforPerformanceResearch
ATTACH;FMTTYPE="image/jpeg":http://storage.ning.com/topology/rest/1.0/
 file/get/111741655?profile=original
ATTENDEE;ROLE=REQ-PARTICIPANT;PARTSTAT=ACCEPTED;RSVP=TRUE;CN="Center f
 or Performance Research":http://conectom.leimay.org/profile/CenterforP
 erformanceResearch
END:VEVENT
END:VCALENDAR
