BEGIN:VCALENDAR
PRODID:NingEventWidget-v1
VERSION:2.0
METHOD:PUBLISH
BEGIN:VTIMEZONE
TZID:America/Anguilla
X-LIC-LOCATION:America/Anguilla
BEGIN:STANDARD
TZOFFSETFROM:-0400
TZOFFSETTO:-0400
TZNAME:AST
DTSTART:19700101T000000
END:STANDARD
END:VTIMEZONE
BEGIN:VEVENT
UID:5831649:Event:20313
DTSTAMP:20260420T014930Z
SUMMARY:Performance of Akira Kasai at DNA
DESCRIPTION:\n\n\n\n\nCAVE and DNA Present CAVE: NY Butoh-Kan Masters\
 nAKIRA KASAI\n\n\nAkira Kasai will present the world premiere “Nobod
 y’s Money”. Kasai, originally from Tokyo, Japan, is now sixty-eigh
 t years old, and has been a pioneer if the butoh art form since the 19
 60s. Trained in modern dance, pantomime and classical ballet, Kasai br
 ings fierce horizontal and vertical movements, as well as humorous and
  clown-like elements to his butoh.\n\n\nTickets: $17 general | $13 DNA
 /CAVENexus members/students with valid ID or profile print out of CAVE
 nexus.\n\n\n\n\n\nFor more information visit http://conectom.leimay.or
 g/events/performance-of-akira-kasai-at-dna
DTSTART;TZID=America/Anguilla:20111118T200000
DTEND;TZID=America/Anguilla:20111118T210000
CATEGORIES:performance
LOCATION:DNA: Dance New Amsterdam
WEBSITE:https://dancenewamsterdam.secure.force.com/ticket#details_a0UA
 0000003MJpTMAW
URL:https://dancenewamsterdam.secure.force.com/ticket#details_a0UA0000
 003MJpTMAW
CONTACT:
ORGANIZER:DNA and CAVE
ATTACH;FMTTYPE="image/jpeg":http://storage.ning.com/topology/rest/1.0/
 file/get/111733586?profile=original
ATTENDEE;ROLE=REQ-PARTICIPANT;PARTSTAT=ACCEPTED;RSVP=TRUE;CN=LEIMAY:ht
 tp://conectom.leimay.org/profile/LEIMAY_CAVE
END:VEVENT
END:VCALENDAR
