BEGIN:VCALENDAR
PRODID:NingEventWidget-v1
VERSION:2.0
METHOD:PUBLISH
BEGIN:VTIMEZONE
TZID:America/Anguilla
X-LIC-LOCATION:America/Anguilla
BEGIN:STANDARD
TZOFFSETFROM:-0400
TZOFFSETTO:-0400
TZNAME:AST
DTSTART:19700101T000000
END:STANDARD
END:VTIMEZONE
BEGIN:VEVENT
UID:5831649:Event:75278
DTSTAMP:20260424T041720Z
SUMMARY:SOAK 2017: Performance by LEIMAY Former Fellow Massimiliano Ba
 lduzzi
DESCRIPTION:DOIEB SI TAU, language for a requiem\nPerformed by Massimi
 liano Balduzzi\nDramaturgy by Susan Mar Landau\n\n \n\nCreated from M
 assimiliano Balduzzi's original vocal and physical research, DOIEB SI 
 TAU: language for a requiem, is a study on loss and transformation. In
  the form of a direct address, a lone performer pushes language and ch
 aracter to their breaking point, crafting a ritual of willful separati
 on, a purging of the self.\n\n \n\nSaturday, June 3 and Sunday, June 
 4, 8pm\n\nSpace is limited. Online RSVP required.\n\nFollowed by a pos
 t-show conversation.\n\n\nFor more information visit http://conectom.l
 eimay.org/events/performance-by-leimay-former-fellow-massimiliano-bald
 uzzi
DTSTART;TZID=America/Anguilla:20170603T200000
DTEND;TZID=America/Anguilla:20170604T220000
CATEGORIES:performance
LOCATION:TBD
WEBSITE:http://leimaymain.cavearts.org/?p=5339
URL:http://leimaymain.cavearts.org/?p=5339
CONTACT:347.838.4677
ORGANIZER;CN="Drew Weinstein":http://conectom.leimay.org/profile/DrewW
 einstein
ATTACH;FMTTYPE="image/jpeg":http://storage.ning.com/topology/rest/1.0/
 file/get/111741625?profile=original
ATTENDEE;ROLE=REQ-PARTICIPANT;PARTSTAT=ACCEPTED;RSVP=TRUE;CN="Drew Wei
 nstein":http://conectom.leimay.org/profile/DrewWeinstein
ATTENDEE;ROLE=REQ-PARTICIPANT;PARTSTAT=ACCEPTED;RSVP=TRUE;CN="Maddie W
 inchester":http://conectom.leimay.org/profile/MaddieWinchester
END:VEVENT
END:VCALENDAR
