BEGIN:VCALENDAR
PRODID:NingEventWidget-v1
VERSION:2.0
METHOD:PUBLISH
BEGIN:VTIMEZONE
TZID:America/Anguilla
X-LIC-LOCATION:America/Anguilla
BEGIN:STANDARD
TZOFFSETFROM:-0400
TZOFFSETTO:-0400
TZNAME:AST
DTSTART:19700101T000000
END:STANDARD
END:VTIMEZONE
BEGIN:VEVENT
UID:5831649:Event:35580
DTSTAMP:20260422T144925Z
SUMMARY:PE2O
DESCRIPTION:THE SHOW: PE2O\n\n\n\nPE2O from Alex Franz Zehetbauer on V
 imeo.\n_________________________________________\nA new work, PE2O res
 ponds to the reality that humanity's half-century of plastic comfort a
 nd waste have changed the composition of the planets oceans. It explor
 es a futuristic earth in which all natural resources have expired and 
 what remains is a world of plastic. The bodies on stage attempt to sub
 sist in this environment, created by past generations’ desire for co
 mfort and disposability. Through visual performance art, PE2O exists a
 s an embodied shame pole—the objective of which is to harness the ca
 pacity for shame to incite critical thought in the spectator.\n_______
 _______________________________\nTHE HUMANS:\n________________________
 ________\nDirection | Set Design | Lighting Design by Alex Franz Zehet
 bauer\n________________________\nCreated by Alex Franz Zehetbauer\nin 
 collaboration with Caitlin Hargraves,\nNatalia Lassalle, and Marisa Sa
 vic\n_________________\nSound Design by Erin Mullin\n_________________
 ___________________\nTHE PLACE // THE TIME:\n___________\nFri  | Feb 
 22 2013 | 7:30pm | doors open at 7:10pm\nSat | Feb 23 2013 | 8:00pm | 
 doors open at 7:40pm\n_______________________________________________\
 n@ LEIMAY-CAVE | 58 GRAND ST. | BEDFORD L train\n_____________________
 ________________\nDoors open 20 minutes before the show | Be ready to 
 show us your socks!\n____________________________\n(ps. the EARLY SQUI
 D always gets the sauna to hirself)\n__________________\nTICKETS:\n$12
 .00 online @ http://www.brownpapertickets.com/event/325183\n$15.00 at 
 the door\n_______________________\nNEED LIVE HELP:\n503.778.0413\n____
 _______________________________________\nDONATE to PE2O and help us to
 ur the show:\nhttp://www.indiegogo.com/PE2O\n_________________________
 ______________\nPE2O was created in the Black Studio Residency at LEIM
 AY-CAVE (2012-2013) Brooklyn, NY\n__________________________\nFor phot
 os and videos of past work and more information about The Embodied Sha
 me Pole please visit http://conectom.leimay.org/profile/AlexFranzZehet
 bauer.\n\nFor more information visit http://conectom.leimay.org/events
 /pe2o
DTSTART;TZID=America/Anguilla:20130222T193000
DTEND;TZID=America/Anguilla:20130222T203000
CATEGORIES:performance
LOCATION:LEIMAY-CAVE
WEBSITE:https://maps.google.com/maps?client=safari&q=LEIMAY-CAVE&oe=UT
 F-8&ie=UTF-8&hl=en
URL:https://maps.google.com/maps?client=safari&q=LEIMAY-CAVE&oe=UTF-8&
 ie=UTF-8&hl=en
CONTACT:5037780413
ORGANIZER;CN="Alex Franz Zehetbauer":http://conectom.leimay.org/profil
 e/AlexFranzZehetbauer
ATTACH;FMTTYPE="image/jpeg":http://storage.ning.com/topology/rest/1.0/
 file/get/111735920?profile=original
ATTENDEE;ROLE=REQ-PARTICIPANT;PARTSTAT=ACCEPTED;RSVP=TRUE;CN="Alex Fra
 nz Zehetbauer":http://conectom.leimay.org/profile/AlexFranzZehetbauer
ATTENDEE;ROLE=REQ-PARTICIPANT;PARTSTAT=ACCEPTED;RSVP=TRUE;CN="Zavé Ma
 rtohardjono":http://conectom.leimay.org/profile/Zave
ATTENDEE;ROLE=REQ-PARTICIPANT;PARTSTAT=ACCEPTED;RSVP=TRUE;CN="Eija Ran
 ta":http://conectom.leimay.org/profile/EijaRanta
ATTENDEE;ROLE=REQ-PARTICIPANT;PARTSTAT=ACCEPTED;RSVP=TRUE;CN="Raul Zbe
 ngheci":http://conectom.leimay.org/profile/RaulZbengheci
END:VEVENT
END:VCALENDAR
