BEGIN:VCALENDAR
PRODID:NingEventWidget-v1
VERSION:2.0
METHOD:PUBLISH
BEGIN:VTIMEZONE
TZID:America/Anguilla
X-LIC-LOCATION:America/Anguilla
BEGIN:STANDARD
TZOFFSETFROM:-0400
TZOFFSETTO:-0400
TZNAME:AST
DTSTART:19700101T000000
END:STANDARD
END:VTIMEZONE
BEGIN:VEVENT
UID:5831649:Event:31670
DTSTAMP:20260419T235154Z
SUMMARY:Open Workshops - Terra Incognita Theater
DESCRIPTION:Terra Incognita Theater, an experimental performance compa
 ny that has been creating original works for several decades, in resid
 ency at CAVE since 2009, will hold three open workshops in the coming 
 weeks. Polina Klimovitskaya, the founder/artistic director of Terra, i
 nternational master teacher, and the creator of Kinetic Mind Technique
 , will lead the work sessions, supported by members of the company. Th
 ese workshops will serve as an introduction to Kinetic Mind as a way t
 o develop the intuitive mind and visceral presence in performance.\n\n
 The workshops are geared towards professional performers, seeking to c
 ircumvent the daily, rational mind to further free creativity. They ma
 y also lead to further connections with the company.  The sessions are
  free, but you must register to attend and must attend the entirety of
  each session to which you come. To register, please write to info@ter
 raincognitatheater.org with \"Open Workshop Registration\" in the subj
 ect field and include your artist resume or biography. Available days 
 are:  Sunday, December 2, 12pm-3pm Sunday, December 9, 12pm-3pm Sunday
 , December 16, 12pm-3pm  Please indicate all of the days you can atten
 d, and Terra will respond with availability of space and further detai
 ls. Participants will bring some small piece of text, dance, or song t
 o work with.  Polina Klimovitskaya began her career in Moscow in the 1
 960s and long since established herself as a director and master teach
 er around the world. She is currently on faculty at Michael Howard Stu
 dios and Yale University.  www.terraincognitatheater.org\n\nFor more i
 nformation visit http://conectom.leimay.org/events/open-workshops-terr
 a-incognita-theater
DTSTART;TZID=America/Anguilla:20121202T120000
DTEND;TZID=America/Anguilla:20121202T150000
CATEGORIES:workshop, training
LOCATION:CAVE
WEBSITE:http://terraincognitatheater.org/
URL:http://terraincognitatheater.org/
CONTACT:
ORGANIZER;CN="Jeremy Goren":http://conectom.leimay.org/profile/JeremyG
 oren
ATTACH;FMTTYPE="image/jpeg":http://storage.ning.com/topology/rest/1.0/
 file/get/111735576?profile=original
ATTENDEE;ROLE=REQ-PARTICIPANT;PARTSTAT=ACCEPTED;RSVP=TRUE;CN="Jeremy G
 oren":http://conectom.leimay.org/profile/JeremyGoren
END:VEVENT
END:VCALENDAR
