BEGIN:VCALENDAR
PRODID:NingEventWidget-v1
VERSION:2.0
METHOD:PUBLISH
BEGIN:VTIMEZONE
TZID:America/Anguilla
X-LIC-LOCATION:America/Anguilla
BEGIN:STANDARD
TZOFFSETFROM:-0400
TZOFFSETTO:-0400
TZNAME:AST
DTSTART:19700101T000000
END:STANDARD
END:VTIMEZONE
BEGIN:VEVENT
UID:5831649:Event:43143
DTSTAMP:20260424T083429Z
SUMMARY:Open Workshop - Kinetic Mind Technique - Terra Incognita Theat
 er
DESCRIPTION:Terra Incognita Theater, an experimental performance compa
 ny that has been creating original works for several decades, will hol
 d an open workshop for performers on October 27 from 10am-1pm. Polina 
 Klimovitskaya, the founding artistic director of Terra Incognita, inte
 rnational master teacher, and the creator of Kinetic Mind Technique, w
 ill lead the work sessions, supported by members of the company.\n Kin
 etic Mind, a way to free intuitive thinking and enhance the performer'
 s visceral presence, challenges the ways we think when performing and 
 guides the artist toward her/his unique, creative core. The workshop w
 ill serve as an introduction to Kinetic Mind and an opportunity for co
 ntact between the group and other artists, as Terra Incognita consider
 s finding additional creative performers to work with the company on p
 articular projects and/or in its ongoing exploratory work.\n  The ses
 sion is free and open, but you must register to attend and must attend
  the entirety of the session. People who have studied with Polina in a
 ny capacity are not eligible. To register, please write to info@terrai
 ncognitatheater.org with \"Open Workshop Registration\" in the subject
  field and include your artist resume or biography. Terra will respond
  with confirmation, location, and further details. Participants should
  bring some small piece of dance/text/song to work with.\n  A not-for
 -profit, 501(c)(3) company, Terra Incognita Theater has held a LEIMAY 
 Black Studio Share since 2009.\n\nFor more information visit http://co
 nectom.leimay.org/events/open-workshop-kinetic-mind-technique-terra-in
 cognita-theater
DTSTART;TZID=America/Anguilla:20131027T100000
DTEND;TZID=America/Anguilla:20131027T130000
CATEGORIES:workshop
LOCATION:Brooklyn, NY
WEBSITE:http://www.terraincognitatheater.org
URL:http://www.terraincognitatheater.org
CONTACT:-
ORGANIZER;CN="Jeremy Goren":http://conectom.leimay.org/profile/JeremyG
 oren
ATTACH;FMTTYPE="image/jpeg":http://storage.ning.com/topology/rest/1.0/
 file/get/111737543?profile=original
ATTENDEE;ROLE=REQ-PARTICIPANT;PARTSTAT=ACCEPTED;RSVP=TRUE;CN="Jeremy G
 oren":http://conectom.leimay.org/profile/JeremyGoren
END:VEVENT
END:VCALENDAR
