BEGIN:VCALENDAR
PRODID:NingEventWidget-v1
VERSION:2.0
METHOD:PUBLISH
BEGIN:VTIMEZONE
TZID:America/Anguilla
X-LIC-LOCATION:America/Anguilla
BEGIN:STANDARD
TZOFFSETFROM:-0400
TZOFFSETTO:-0400
TZNAME:AST
DTSTART:19700101T000000
END:STANDARD
END:VTIMEZONE
BEGIN:VEVENT
UID:5831649:Event:44262
DTSTAMP:20260424T070720Z
SUMMARY:Open Choir with the Open Program of the Workcenter of Jerzy Gr
 otowksi and Thomas Richards
DESCRIPTION:Come!!! And sing with us!!!!We have the pleasure to inform
  you that the Open Program is in New York, in process of developing a 
 new project from January to March 2014. It is the goal of the Open Pro
 gram to create in New York City contexts for working with old and new 
 friends and the possibilities for developing new works.In a remarkable
  new project, in collaboration with West Park Presbyterian Church, we 
 will lay the seeds of new kinds of community in NYC by creating a uniq
 ue Open Choir, a non-sectarian, weekly encounter open to all. This wil
 l be an unprecedented opportunity for people in New York City to parti
 cipate with the Workcenter.The next encounter is in January 21th.Janua
 ry 16th, 21st, and also January 30th from 7-9 PM West Park Presbyteri
 an Church: 165 W 86th St, New York Wear warm, elegant clothes, as for
  a party with friends or for a special occasion! There is no need to m
 ake a reservation. Please help us to spread the word! Your help infor
 ming your friends of our project and performances is essential to us, 
 and we will be very grateful if each of you could share this informati
 on to your contacts and to your friends who would be interested.We tha
 nk you in advance! Kind wishes to you all! For questions regarding th
 ese sessions: info@theworkcenter.org with the subject: OPEN CHOIR NYCF
 or information about the entire program, please visit:http://workcente
 rusaperformances.tumblr.com/\n\nFor more information visit http://cone
 ctom.leimay.org/events/open-choir-with-the-open-program-of-the-workcen
 ter-of-jerzy-groto
DTSTART;TZID=America/Anguilla:20140121T190000
DTEND;TZID=America/Anguilla:20140130T210000
CATEGORIES:performance, community, event
LOCATION:West Park Presbyterian Church
WEBSITE:http://Open Choir with the Open Program of the Workcenter of J
 erzy Grotowski and Thomas Richards
URL:http://Open Choir with the Open Program of the Workcenter of Jerzy
  Grotowski and Thomas Richards
CONTACT:
ORGANIZER:The Open Program of the Workcenter
ATTACH;FMTTYPE="image/jpeg":http://storage.ning.com/topology/rest/1.0/
 file/get/111737612?profile=original
ATTENDEE;ROLE=REQ-PARTICIPANT;PARTSTAT=ACCEPTED;RSVP=TRUE;CN="mike dot
 hal":http://conectom.leimay.org/profile/mikedothal
ATTENDEE;ROLE=REQ-PARTICIPANT;PARTSTAT=ACCEPTED;RSVP=TRUE;CN=LEIMAY:ht
 tp://conectom.leimay.org/profile/LEIMAY
END:VEVENT
END:VCALENDAR
