BEGIN:VCALENDAR
PRODID:NingEventWidget-v1
VERSION:2.0
METHOD:PUBLISH
BEGIN:VTIMEZONE
TZID:America/Anguilla
X-LIC-LOCATION:America/Anguilla
BEGIN:STANDARD
TZOFFSETFROM:-0400
TZOFFSETTO:-0400
TZNAME:AST
DTSTART:19700101T000000
END:STANDARD
END:VTIMEZONE
BEGIN:VEVENT
UID:5831649:Event:59625
DTSTAMP:20260419T094408Z
SUMMARY:OF CAKE & VANITY
DESCRIPTION:sex //drugs //criminal insanity OF CAKE & VANITY\nA Musica
 l Painting by Jose Rivera Jr.\n\nONE NIGHT ONLY\nÂ March 26th | 9pm\nT
 he P.I.T. | 123 E 24th St.\nBUY YOUR TICKETSÂ HERE!\n\nOF CAKE & VANIT
 YÂ is a fairy-tale about a man whose wish to be anyone but himself bec
 omes a fantastic reality when he is consumed by the beast he is so obs
 essed with â€“ a sexy, sweaty, gay body.\n\nLove, lust, and technology
  meet via theater, music, fashion and performance art in an exploratio
 n of the homogenization of the gay body. A hybrid of Theater & Perform
 ance Art, this piece will consist of Dance created in collaboration wi
 th the Actors, Fashion, Original Music (Acoustic into EDM), and Live V
 ideo Art.\n\nPerformed By: Andrew Chung, Paul Kim, Chris Rehmann, JosÃ
 © Rivera Jr., Justin Robert Thomas Smith, and Lindsay Wolff\n\nPresent
 ed by Forever Dog Productions| Photo: Jamie Helen Sanin\n\nFor more in
 formation visit http://conectom.leimay.org/events/of-cake-vanity
DTSTART;TZID=America/Anguilla:20150326T210000
DTEND;TZID=America/Anguilla:20150326T220000
CATEGORIES:theater, performance, art
LOCATION:The P.I.T.
WEBSITE:https://www.eventbrite.com/e/forever-dog-thursdays-tickets-150
 92585329
URL:https://www.eventbrite.com/e/forever-dog-thursdays-tickets-1509258
 5329
CONTACT:
ORGANIZER:JosÃ© Rivera, Jr.
ATTACH;FMTTYPE="image/jpeg":http://storage.ning.com/topology/rest/1.0/
 file/get/111739540?profile=original
ATTENDEE;ROLE=REQ-PARTICIPANT;PARTSTAT=ACCEPTED;RSVP=TRUE;CN=LEIMAY:ht
 tp://conectom.leimay.org/profile/LEIMAY_CAVE
END:VEVENT
END:VCALENDAR
