BEGIN:VCALENDAR
PRODID:NingEventWidget-v1
VERSION:2.0
METHOD:PUBLISH
BEGIN:VTIMEZONE
TZID:America/Anguilla
X-LIC-LOCATION:America/Anguilla
BEGIN:STANDARD
TZOFFSETFROM:-0400
TZOFFSETTO:-0400
TZNAME:AST
DTSTART:19700101T000000
END:STANDARD
END:VTIMEZONE
BEGIN:VEVENT
UID:5831649:Event:72700
DTSTAMP:20260424T043532Z
SUMMARY:Noh Workshop with Kita Noh Theater Company
DESCRIPTION:Members of the Kita Noh Theater Company lead a workshop on
  noh theater’s unique stylized movement and vocalization. Workshop p
 articipants will have the opportunity to learn an excerpt from Yoro, a
  significant noh play thematically aligned with W. B. Yeats’ At the 
 Hawk’s Well, and have the opportunity to try the unique musical inst
 ruments used in noh theater.  TICKETS: $75/$65 Japan Society members  
 Max. 20 participants. Some movement-based professional performance exp
 erience required. Participants must wear socks and exercise wear.\n\nF
 or more information visit http://conectom.leimay.org/events/noh-worksh
 op-with-kita-noh-theater-company
DTSTART;TZID=America/Anguilla:20161120T130000
DTEND;TZID=America/Anguilla:20161120T150000
CATEGORIES:dance, theater, music, workshop, traditional
LOCATION:Japan Society
WEBSITE:http://www.japansociety.org/event/noh-workshop-with-kita-noh-t
 heater-company
URL:http://www.japansociety.org/event/noh-workshop-with-kita-noh-theat
 er-company
CONTACT:212-715-1258
ORGANIZER;CN="Lara Mones":http://conectom.leimay.org/profile/LaraMones
ATTACH;FMTTYPE="image/jpeg":http://storage.ning.com/topology/rest/1.0/
 file/get/111741121?profile=original
ATTENDEE;ROLE=REQ-PARTICIPANT;PARTSTAT=ACCEPTED;RSVP=TRUE;CN="Lara Mon
 es":http://conectom.leimay.org/profile/LaraMones
END:VEVENT
END:VCALENDAR
