BEGIN:VCALENDAR
PRODID:NingEventWidget-v1
VERSION:2.0
METHOD:PUBLISH
BEGIN:VTIMEZONE
TZID:America/Anguilla
X-LIC-LOCATION:America/Anguilla
BEGIN:STANDARD
TZOFFSETFROM:-0400
TZOFFSETTO:-0400
TZNAME:AST
DTSTART:19700101T000000
END:STANDARD
END:VTIMEZONE
BEGIN:VEVENT
UID:5831649:Event:60963
DTSTAMP:20260419T174832Z
SUMMARY:New and Traditional Noh
DESCRIPTION:Explore Japan’s time-honored noh theater in a rare doubl
 e bill that offers plays from the modern and traditional repertories. 
 The evening features the poignant new play Holy Mother in Nagasaki, in
  which a pilgrim learns about the legend of a woman, surmised to have 
 been the Virgin Mary, who appeared to console the victims of the atomi
 c bomb. Kiyotsune, one of Zeami’s (1363?-1443?) masterpieces, is off
 ered as a companion piece. This centuries-old noh play tells the story
  of  a grieving widow who meets her warrior husband in a dream to lea
 rn of his final battle. Performed in Japanese with English subtitles. 
  Led by noh actor Kanji Shimizu; Featuring members of the Church of St
 . Francis Xavier Choir, New York; Presented in assistance with Tessen-
 kai Noh Theater Association.\n\nFor more information visit http://cone
 ctom.leimay.org/events/new-and-traditional-noh
DTSTART;TZID=America/Anguilla:20150514T193000
DTEND;TZID=America/Anguilla:20150516T193000
CATEGORIES:performance
LOCATION:Japan Society
WEBSITE:http://www.japansociety.org/event/new-and-traditional-noh-holy
 -mother-in-nagasaki-and-kiyotsune
URL:http://www.japansociety.org/event/new-and-traditional-noh-holy-mot
 her-in-nagasaki-and-kiyotsune
CONTACT:(212) 715-1258
ORGANIZER;CN="Lara Mones":http://conectom.leimay.org/profile/LaraMones
ATTACH;FMTTYPE="image/jpeg":http://storage.ning.com/topology/rest/1.0/
 file/get/111740099?profile=original
ATTENDEE;ROLE=REQ-PARTICIPANT;PARTSTAT=ACCEPTED;RSVP=TRUE;CN="Lara Mon
 es":http://conectom.leimay.org/profile/LaraMones
END:VEVENT
END:VCALENDAR
