BEGIN:VCALENDAR
PRODID:NingEventWidget-v1
VERSION:2.0
METHOD:PUBLISH
BEGIN:VTIMEZONE
TZID:America/Anguilla
X-LIC-LOCATION:America/Anguilla
BEGIN:STANDARD
TZOFFSETFROM:-0400
TZOFFSETTO:-0400
TZNAME:AST
DTSTART:19700101T000000
END:STANDARD
END:VTIMEZONE
BEGIN:VEVENT
UID:5831649:Event:36031
DTSTAMP:20260420T004229Z
SUMMARY:Narcissister // Narcissister is You // Envoy Enterprises
DESCRIPTION:Live Sets By: \n \nEarthmasters and NarcissisterMarcia B
 assetMaria Chavez\n\nFor more information visit http://conectom.leimay
 .org/events/narcissister-narcissister-is-you-envoy-enterprises
DTSTART;TZID=America/Anguilla:20130209T190000
DTEND;TZID=America/Anguilla:20130209T210000
CATEGORIES:"gallery performance", narcissister, "sound performance", "
 gallery opening"
LOCATION:envoy enterprises
WEBSITE:http://us2.campaign-archive1.com/?u=9568d32999ef388fe14033f74&
 id=49b2e272ba&e=
URL:http://us2.campaign-archive1.com/?u=9568d32999ef388fe14033f74&id=4
 9b2e272ba&e=
CONTACT:
ORGANIZER:
ATTACH;FMTTYPE="image/jpeg":http://storage.ning.com/topology/rest/1.0/
 file/get/111735771?profile=original
ATTENDEE;ROLE=REQ-PARTICIPANT;PARTSTAT=ACCEPTED;RSVP=TRUE;CN="Raul Zbe
 ngheci":http://conectom.leimay.org/profile/RaulZbengheci
END:VEVENT
END:VCALENDAR
