BEGIN:VCALENDAR
PRODID:NingEventWidget-v1
VERSION:2.0
METHOD:PUBLISH
BEGIN:VTIMEZONE
TZID:America/Anguilla
X-LIC-LOCATION:America/Anguilla
BEGIN:STANDARD
TZOFFSETFROM:-0400
TZOFFSETTO:-0400
TZNAME:AST
DTSTART:19700101T000000
END:STANDARD
END:VTIMEZONE
BEGIN:VEVENT
UID:5831649:Event:81723
DTSTAMP:20260419T174643Z
SUMMARY:Movement: Directing/Teaching Lab
DESCRIPTION:Movement: Directing/Teaching Lab\nOctober 25 - 30, 2017\n\
 n\n \nMonastero Santa Croce - Tuscany, Italy\n \n \nThe internatio
 nal program aims at performance and movement practitioners from all ov
 er the world interested in movement directing and teaching.\n \nThe w
 orkshop is open to actors and dancers interested to expand and diversi
 fy their professional vocabulary, instructors who work with actors, pr
 actitioners from dance, theatre and sport interested to improve their 
 understanding of practical and theoretical aspects of movement in cont
 emporary performance.\n \nThis course offers a special vocational tea
 ching in the field of movement for actors and production practice for 
 movement directors. \n \nThere are opportunities for the development
  of individual movement skills and their application to the work with 
 actors. \n \nTradition, experience, eclecticism and innovation summa
 rize the understanding of movement training for theatre. This unique 
 course was created in this spirit.\n \nPractical sessions are designe
 d to enhance the skills of movement teachers and movement directors.\n
  \nStudents may expect to encounter the techniques by the outstanding
  performing arts practitioners, such as V. Meyerhold (Biomechanics), 
 M.Chekhov (Psychological Gesture), K. Stanislavski (Physical Action).\
 n\n \n\n\n\nDetails at: http://www.iugte.com/pac \n\nFor more infor
 mation visit http://conectom.leimay.org/events/movement-directing-teac
 hing-lab
DTSTART;TZID=America/Anguilla:20171025T180000
DTEND;TZID=America/Anguilla:20171030T100000
CATEGORIES:workshop, training
LOCATION:Monastero Santa Croce
WEBSITE:http://www.iugte.com/pac
URL:http://www.iugte.com/pac
CONTACT:
ORGANIZER;CN=IUGTE:http://conectom.leimay.org/profile/IUGTE
ATTACH;FMTTYPE="image/jpeg":http://storage.ning.com/topology/rest/1.0/
 file/get/111741599?profile=original
ATTENDEE;ROLE=REQ-PARTICIPANT;PARTSTAT=ACCEPTED;RSVP=TRUE;CN=IUGTE:htt
 p://conectom.leimay.org/profile/IUGTE
END:VEVENT
END:VCALENDAR
