BEGIN:VCALENDAR
PRODID:NingEventWidget-v1
VERSION:2.0
METHOD:PUBLISH
BEGIN:VTIMEZONE
TZID:America/Anguilla
X-LIC-LOCATION:America/Anguilla
BEGIN:STANDARD
TZOFFSETFROM:-0400
TZOFFSETTO:-0400
TZNAME:AST
DTSTART:19700101T000000
END:STANDARD
END:VTIMEZONE
BEGIN:VEVENT
UID:5831649:Event:1665
DTSTAMP:20260419T081658Z
SUMMARY:MISFITS – BLACK AND WHITE
DESCRIPTION:Michael Alan\nThe Living Installation\n\nBLACK AND WHITE/ 
 The Misfits\n@ ABC NO RIO Gallery\n\nA 5 HOUR PERFORMANCE / INSTALLATI
 ON HAPPENING\n\nWe are all Misfits. The Misfits changed music history,
  the progenitors of the horror punk sub-genera, blending multiple musi
 cal influences with horror film themes and imagery. Before they broke 
 up they changed music as we hear it now. This is a tribute to them.\nA
  battle, a cry, action and projection, the dead in the living, slow br
 eathing body parts with a limited palate, a full black and white feast
 . 6 human beings will be plunged into the world of Misfits. A strange 
 and uncontrollable world designed to change. A child will keep this pl
 ace in order, death will bring life. Come watch a world be built and d
 estroyed in 5 hours, see 6 humans transformed into 4d, 3d and 2d. Each
  cast member has a planed out action, which it morph over the course o
 f the show.\nCome make art, write, listen, be a part, art for all. Abc
  Norio is a historical NY spot, this time next year the gritty gallery
  will be a new space. Be a part of history.\nA limited engagement proj
 ect; Alan animates his drawings by transforming spaces and performers.
  Using an assortment of material, including prints, casts, paint, and 
 found objects, he builds living sculptures that perform beautiful and 
 treacherous acts. The concept and theme of the show changes with every
  new performance, but the project is a act of metamorphosis for an aud
 ience of all.\n\n\nCast and crew: Garry Boake, Theresa Magario ™, St
 eve Perez, Dave Modelo, Julie Turner, Gregory Frumin, Joe Rugillio, an
 d Raquel Mavecq\n\n2 live musicians\nAllegorical electronic symphony b
 y Time “Love” Lee\nPunk music by DJ Jesse Jones Of Yuppicide\n\nGe
 t Tickets now, this will sell out, new Living Installation is only 6x 
 a year\n\n$17 online $20 at the adventure\nwww.michaelalanart.com www.
 thelivinginstallation.com\n\nFor more information visit http://conecto
 m.leimay.org/events/misfits-black-and-white
DTSTART;TZID=America/Anguilla:20101029T200000
DTEND;TZID=America/Anguilla:20101030T010000
CATEGORIES:performance, installation
LOCATION:ABC NORIO
WEBSITE:http://www.michaelalanart.com/drawathon/
URL:http://www.michaelalanart.com/drawathon/
CONTACT:
ORGANIZER:Michael Alan
ATTACH;FMTTYPE="image/jpeg":http://storage.ning.com/topology/rest/1.0/
 file/get/111733222?profile=original
ATTENDEE;ROLE=REQ-PARTICIPANT;PARTSTAT=ACCEPTED;RSVP=TRUE;CN=LEIMAY:ht
 tp://conectom.leimay.org/profile/LEIMAY_CAVE
ATTENDEE;ROLE=REQ-PARTICIPANT;PARTSTAT=ACCEPTED;RSVP=TRUE;CN="Theresa 
 Magario tm":http://conectom.leimay.org/profile/TheresaMagario_tm
END:VEVENT
END:VCALENDAR
