BEGIN:VCALENDAR
PRODID:NingEventWidget-v1
VERSION:2.0
METHOD:PUBLISH
BEGIN:VTIMEZONE
TZID:America/Anguilla
X-LIC-LOCATION:America/Anguilla
BEGIN:STANDARD
TZOFFSETFROM:-0400
TZOFFSETTO:-0400
TZNAME:AST
DTSTART:19700101T000000
END:STANDARD
END:VTIMEZONE
BEGIN:VEVENT
UID:5831649:Event:34722
DTSTAMP:20260424T154830Z
SUMMARY:Miguel Guttierez with Mind over Mirrors // Storing the Winter
DESCRIPTION:Miguel Gutierrez and Jaime Fennelly (aka Mind Over Mirrors
 ) met in the pine forests of the American South in summer of 2001. Tak
 ing refuge in the top story of a run down Bushwick, Brooklyn, warehous
 e that fall, they sonically and viscerally hammered away for the next 
 four years at the mountains of detritus that had been left there befor
 e them, sculpting their own assemblage of self-sabotage actions up and
  down the Eastern seaboard and Europe. Eight years gone, reconfigured
  with their collective shovel dug deep, they areStoring The Winter.\nM
 ind Over Mirrors is the solitary reeling of American harmoniumist/elec
 tronicist Jaime Fennelly. Fennelly began developing Mind Over Mirrors 
 when he moved from Bushwick/Brooklyn, NY to a remote island in the Sal
 ish Sea of Washington State from 2007-2010. Utilizing an Indian pedal 
 harmonium, oscillators, tape delays, and an assortment of synthesizing
  processors, Fennelly bends slowly-building, repetitive melodies into 
 massive sonic mountains, and as XXJFG eulogized, sounds \"like some dr
 um-less-techno titan stalking the sand blasted bazaars of a near-futur
 e, eastern city.\"  His third and most recent album, Check Your Swin
 g, was released on French imprint, Hands in the Dark Records, this pa
 st fall, with previous releases on Digitalis and Aguirre Records.\nTic
 kets $20\n\nFor more information visit http://conectom.leimay.org/even
 ts/miguel-guttierez-with-mind-over-mirrors-storing-the-winter-1
DTSTART;TZID=America/Anguilla:20130117T190000
DTEND;TZID=America/Anguilla:20130117T200000
CATEGORIES:"danc sound", "sounds and moves", "ambient electronic with 
 dancing"
LOCATION:Underground Theater // Abrons Art Center
WEBSITE:http://www.abronsartscenter.org/performances/american-realness
 -2013/mind-over-mirrors-with-miguel-gutierrez.html
URL:http://www.abronsartscenter.org/performances/american-realness-201
 3/mind-over-mirrors-with-miguel-gutierrez.html
CONTACT:
ORGANIZER:
ATTACH;FMTTYPE="image/jpeg":http://storage.ning.com/topology/rest/1.0/
 file/get/111735642?profile=original
ATTENDEE;ROLE=REQ-PARTICIPANT;PARTSTAT=ACCEPTED;RSVP=TRUE;CN="Raul Zbe
 ngheci":http://conectom.leimay.org/profile/RaulZbengheci
END:VEVENT
END:VCALENDAR
