BEGIN:VCALENDAR
PRODID:NingEventWidget-v1
VERSION:2.0
METHOD:PUBLISH
BEGIN:VTIMEZONE
TZID:America/Anguilla
X-LIC-LOCATION:America/Anguilla
BEGIN:STANDARD
TZOFFSETFROM:-0400
TZOFFSETTO:-0400
TZNAME:AST
DTSTART:19700101T000000
END:STANDARD
END:VTIMEZONE
BEGIN:VEVENT
UID:5831649:Event:35592
DTSTAMP:20260422T113012Z
SUMMARY:Me Love You Long Time (MLYLT) Opening
DESCRIPTION:Me Love You Long Time (MLYLT), curated by Edwin Ramoran, 
 is a provocative group exhibition of contemporary art and video by ove
 r 50 artists from Southeast Asia and North America who utilize various
  media and complicated visual strategies to upend or explore gender 
 expression, sexuality, sex work and new subjectivities.\n\nFor more t
 han a year, Ramoran travelled Southeast Asia and the U.S., visiting ni
 ghtclub dwellers, studios, galleries and sex workers in search of arti
 sts for MLYLT. Modern life at the intersections of war, sex, gender, f
 ilm, popular music and contemporary art has provided the generative so
 urces for MLYLT. “This exhibition is all about the construction of 
 identity and unapologetic attitudes about sexuality,” Ramoran explai
 ns, “and features art, videos, resources and ephemera from the 1990s
  to the present that dive into really tough issues.”\n\nTwo videos b
 y video artist and emerging performer Zavé Martohardjono, in formati
 on and something dangerous, will be included in the exhibit. For mo
 re information, read the press release.  Exhibit on view February 15,
  2013 – April 7, 2013  Opening Reception Friday February 15th from 6
 -9pm. Guided tour with artists 7:30pm.\n \nMe Love You Long Time fe
 atures works by Bobby Abate, Reza “Asung” Afisina, Pulang Alakdan
 , Hima B., Yason Banal, Anjali Bhargava, Isauro Cairo, Lynne Chan, Ch
 ath Piersath, Vanna Chin, Cecile Chong, Young Chung, Jon Cuyson, Matth
 ew de Leon, Cirilo Domine, Oasa DuVerney, Permi K. Gill, Vicente Golve
 o, Akintola Hanif, Skowmon Hastanan, Swati Khurana, Andrew H. Kim, Co
 ry Koons, Naruki Kukita, Viet Le, Chang-Jin Lee, Lim Sokchanlina, Mail
  Order Brides/M.O.B., Yeni Mao, Zavé Martohardjono, Tala Oliver Mate
 o, Rafael T. Melendez, Gabby Quynh-Anh Miller, Ivan Monforte, Teresa N
 asty, Nguyen Phuong Linh, Nguyen Tan Hoang, Sokuntevy Oeur, ParadoxVes
 tedRelics, Mariko Passion, Tomiko Pilson, Johanna Poethig, Stephanie P
 owell, Clifford Landon Pun, Vanessa T. Ramalho, Rico J. Reyes, Larilyn
  Sanchez, SLAAAP! (Sexually Liberated Arts Activist Asian People!), No
 deth Vang, Nathan Lam Vuong and Maria Yoon.\n\nEvent image photo cred
 it: Lim Sokchanlina, Thief, 2009, from the series My Motorbike and M
 e\n\nFor more information visit http://conectom.leimay.org/events/me-l
 ove-you-long-time-mlylt
DTSTART;TZID=America/Anguilla:20130215T180000
DTEND;TZID=America/Anguilla:20130215T210000
CATEGORIES:exhibit
LOCATION:Mills Gallery, Boston Center for the Arts
WEBSITE:http://www.bcaonline.org/visualarts/mills-gallery/upcoming-exh
 ibitions.html
URL:http://www.bcaonline.org/visualarts/mills-gallery/upcoming-exhibit
 ions.html
CONTACT:
ORGANIZER:Mills Gallery
ATTACH;FMTTYPE="image/jpeg":http://storage.ning.com/topology/rest/1.0/
 file/get/111735924?profile=original
ATTENDEE;ROLE=REQ-PARTICIPANT;PARTSTAT=ACCEPTED;RSVP=TRUE;CN="Zavé Ma
 rtohardjono":http://conectom.leimay.org/profile/Zave
END:VEVENT
END:VCALENDAR
