BEGIN:VCALENDAR
PRODID:NingEventWidget-v1
VERSION:2.0
METHOD:PUBLISH
BEGIN:VTIMEZONE
TZID:America/Anguilla
X-LIC-LOCATION:America/Anguilla
BEGIN:STANDARD
TZOFFSETFROM:-0400
TZOFFSETTO:-0400
TZNAME:AST
DTSTART:19700101T000000
END:STANDARD
END:VTIMEZONE
BEGIN:VEVENT
UID:5831649:Event:40299
DTSTAMP:20260420T143136Z
SUMMARY:MACHINE by Collectif Experiencia
DESCRIPTION:To prepare for the upcoming Singularity, Collectif Experie
 ncia proposes: a space for self-multiplication and physical interrogat
 ion, a potential chamber activated by moving bodies, a transitional sp
 ace between the physical and the virtual.  Following Jankowski and Zbe
 ngheci’s collaborative effort for Collectif Experiencia’s first pr
 oject, the duo has decided to pursue LightVVORK’s scope with MAC H I
  N E , a channeled video and audio installation. Focusing on themes of
  ascension to the virtual cloud and the physical workout that accompan
 ies the transition, Experiencia has designed a multiplying space. Info
 rmed by the already existent merging between man and the machines used
  by man, MAC H I N E will provide a physical space that prepares the v
 isitor for her transition to the virtual. Though this transition could
  have disastrous repercussions, Collectif Experiencia feels the necess
 ity to provide a safe, physical space where one can better understand 
 and feel the evaporating boundaries between physical and virtual prese
 nce.\n\nWorld Premiere: July 5th – 7th Presented as part of the Broo
 klyn International Performance Art Festival \nOpen installation hours
 :  4pm – 8pm, July 5th – 6th | 12pm-4pm, July 7th\nPerformance of 
 Evaporation Study #1 at 7pm, Friday, July 5th\n\nFor more information 
 visit http://conectom.leimay.org/events/machine-1
DTSTART;TZID=America/Anguilla:20130705T160000
DTEND;TZID=America/Anguilla:20130707T200000
CATEGORIES:installation
LOCATION:CAVE home of LEIMAY
WEBSITE:http://collectifexperiencia.net/machine/
URL:http://collectifexperiencia.net/machine/
CONTACT:
ORGANIZER:Raul Zbengheci
ATTACH;FMTTYPE="image/jpeg":http://storage.ning.com/topology/rest/1.0/
 file/get/111737217?profile=original
ATTENDEE;ROLE=REQ-PARTICIPANT;PARTSTAT=ACCEPTED;RSVP=TRUE;CN=LEIMAY:ht
 tp://conectom.leimay.org/profile/LEIMAY_CAVE
ATTENDEE;ROLE=REQ-PARTICIPANT;PARTSTAT=TENTATIVE;RSVP=TRUE;CN="steve s
 harkey":http://conectom.leimay.org/profile/stevesharkey
END:VEVENT
END:VCALENDAR
