BEGIN:VCALENDAR
PRODID:NingEventWidget-v1
VERSION:2.0
METHOD:PUBLISH
BEGIN:VTIMEZONE
TZID:America/Anguilla
X-LIC-LOCATION:America/Anguilla
BEGIN:STANDARD
TZOFFSETFROM:-0400
TZOFFSETTO:-0400
TZNAME:AST
DTSTART:19700101T000000
END:STANDARD
END:VTIMEZONE
BEGIN:VEVENT
UID:5831649:Event:2076
DTSTAMP:20260419T080354Z
SUMMARY:LUMINESCENCE
DESCRIPTION:Luminescence is a 24 minute intensely focused study of lig
 ht – as mirror, as metaphor, as shadow and as self-reflection.\nScre
 enings of luminescence at 7pm, and, 8:30pm\n\nFor more information vis
 it http://conectom.leimay.org/events/luminescence-1
DTSTART;TZID=America/Anguilla:20101119T170000
DTEND;TZID=America/Anguilla:20101119T220000
CATEGORIES:screening
LOCATION:CAVE - Williamsburg
WEBSITE:
URL:
CONTACT:646 220 8350
ORGANIZER;CN="catalina santamaria":http://conectom.leimay.org/profile/
 catalinasantamaria
ATTACH;FMTTYPE="image/jpeg":http://storage.ning.com/topology/rest/1.0/
 file/get/111733220?profile=original
ATTENDEE;ROLE=REQ-PARTICIPANT;PARTSTAT=ACCEPTED;RSVP=TRUE;CN="catalina
  santamaria":http://conectom.leimay.org/profile/catalinasantamaria
ATTENDEE;ROLE=REQ-PARTICIPANT;PARTSTAT=TENTATIVE;RSVP=TRUE;CN="Theresa
  Magario tm":http://conectom.leimay.org/profile/TheresaMagario_tm
END:VEVENT
END:VCALENDAR
