BEGIN:VCALENDAR
PRODID:NingEventWidget-v1
VERSION:2.0
METHOD:PUBLISH
BEGIN:VTIMEZONE
TZID:America/Anguilla
X-LIC-LOCATION:America/Anguilla
BEGIN:STANDARD
TZOFFSETFROM:-0400
TZOFFSETTO:-0400
TZNAME:AST
DTSTART:19700101T000000
END:STANDARD
END:VTIMEZONE
BEGIN:VEVENT
UID:5831649:Event:68934
DTSTAMP:20260419T124336Z
SUMMARY:LEIMAY LUDUS: Community Class Spring 2016
DESCRIPTION:Led by LEIMAY ensemble member Andrea Jones accompanied by
  members of the ensemble, the LEIMAY LUDUS Community Class is a donat
 ion based drop-in class.  This class is accessible to everyone and no
  dance or movement training is necessary. Please note: this is not a p
 erformance oriented class.\nLEIMAY has been investigating and explorin
 g a variety of exercises which aid in the conditioning of a loose and 
 fluid body. Through these exercises participants gain the opportunity 
 to investigate the following principles: identification of the body’
 s own weight in relationship to gravity, the cultivation of internal r
 hythm and fluidity, the development of muscular strength and pliabilit
 y, as well as, spacial awareness and proprioception, and the utilizati
 on of imagination and imagery to engage with and identify flow of ener
 gy. This work can help to relieve tension and relax tired muscles, so 
 whether you spend a lot of time in front of a computer or lead an acti
 ve lifestyle, these classes might be for you!\nDates: Wednesday Night
 s: April 6, 13, 20, 27; May 4, 11, 18 Times: 8pm – 10pm PRICE: Cla
 sses are donation based, please contribute what you can.\n\n\n\nFor mo
 re information visit http://conectom.leimay.org/events/ludus-community
 -class-spring-16
DTSTART;TZID=America/Anguilla:20160427T200000
DTEND;TZID=America/Anguilla:20160518T220000
CATEGORIES:class
LOCATION:CAVE home of LEIMAY
WEBSITE:http://leimaymain.cavearts.org/?p=1911
URL:http://leimaymain.cavearts.org/?p=1911
CONTACT:3478384677
ORGANIZER:LEIMAY
ATTACH;FMTTYPE="image/jpeg":http://storage.ning.com/topology/rest/1.0/
 file/get/111740788?profile=original
ATTENDEE;ROLE=REQ-PARTICIPANT;PARTSTAT=ACCEPTED;RSVP=TRUE;CN="Denise S
 hu Mei":http://conectom.leimay.org/profile/DeniseShuMei
END:VEVENT
END:VCALENDAR
