BEGIN:VCALENDAR
PRODID:NingEventWidget-v1
VERSION:2.0
METHOD:PUBLISH
BEGIN:VTIMEZONE
TZID:America/Anguilla
X-LIC-LOCATION:America/Anguilla
BEGIN:STANDARD
TZOFFSETFROM:-0400
TZOFFSETTO:-0400
TZNAME:AST
DTSTART:19700101T000000
END:STANDARD
END:VTIMEZONE
BEGIN:VEVENT
UID:5831649:Event:31944
DTSTAMP:20260419T221922Z
SUMMARY:Lucy Guerin // Untrained // BAM Fisher Theater
DESCRIPTION: \nPart of 30th Next Wave Festival\nChoreography by Lucy
  Guerin Lucy Guerin Inc\n\n“I love watching the untrained move. They
  leap into the air before they have given any thought to how they migh
 t come back down. It’s always completely unpredictable and unrepeata
 ble. A trained dancer could never do that.”\n—Lucy Guerin\nMy Show
 : A look at how the untrained approach the act of moving, and what it 
 reveals about them as individuals. It's about bodies recording history
 .  Sights and Sounds: Four dancers (two trained, two untrained), a squ
 are taped to the floor, and instructions on stage for them to follow a
 s best they can.  If I could untrain myself in one thing, it would be:
  The instilled movements learned from other choreographers. It's like 
 being possessed!  A body's physical history is: What it's done all its
  life. But also how its \"owner\" thinks about it. Is it friend or foe
 ? Enjoyable or limiting?  If I could choreograph for any nondancer, it
  would be: Maybe Germaine Greer. Or a marching band. Or my parents, bu
 t I think they would get impatient. They have never quite understood t
 he point of it all.\n\n\n\nFor more information visit http://conectom.
 leimay.org/events/lucy-guerin-untrained-bam-fisher-theater-4
DTSTART;TZID=America/Anguilla:20121201T193000
DTEND;TZID=America/Anguilla:20121201T203000
CATEGORIES:dance, "untrained dance", post-dance, apsodifmawpoeif
LOCATION:BAM Fisher Theater
WEBSITE:http://www.bam.org/dance/2012/untrained
URL:http://www.bam.org/dance/2012/untrained
CONTACT:
ORGANIZER:
ATTACH;FMTTYPE="image/jpeg":http://storage.ning.com/topology/rest/1.0/
 file/get/111735547?profile=original
ATTENDEE;ROLE=REQ-PARTICIPANT;PARTSTAT=ACCEPTED;RSVP=TRUE;CN="Raul Zbe
 ngheci":http://conectom.leimay.org/profile/RaulZbengheci
END:VEVENT
END:VCALENDAR
