BEGIN:VCALENDAR
PRODID:NingEventWidget-v1
VERSION:2.0
METHOD:PUBLISH
BEGIN:VTIMEZONE
TZID:America/Anguilla
X-LIC-LOCATION:America/Anguilla
BEGIN:STANDARD
TZOFFSETFROM:-0400
TZOFFSETTO:-0400
TZNAME:AST
DTSTART:19700101T000000
END:STANDARD
END:VTIMEZONE
BEGIN:VEVENT
UID:5831649:Event:11106
DTSTAMP:20260425T182459Z
SUMMARY:Love letter
DESCRIPTION:CRS (Center for Remembering & Sharing) presents  \nShow 
 & Tell: Ami Yamasaki— Love Letter.\n \nan evening of music & conver
 sation \nSaturday, June 11, 2011 at 8 pm\n \n \nIn this performance
 , she tries to seek the relationship between humans and the world. She
  makes music by over dubbing with her voice the sound from various thi
 ngs and movements, layering the vibrations to create different texture
 s, cross-currents and whirlpools of sound. In that process new relatio
 ns arise between the sounds, and the meaning of each sound is transfor
 med. This phenomenon is an attempt to discover \"how the world consist
 s.\" In addition, this is also a love letter for all the people who lo
 st something in the world, not only for Japan.\n \nAll tickets $15 Bu
 y tickets here!\n\nFor more information visit http://conectom.leimay.o
 rg/events/love-letter
DTSTART;TZID=America/Anguilla:20110611T200000
DTEND;TZID=America/Anguilla:20110611T213000
CATEGORIES:performance
LOCATION:CRS (Center for Remembering & Sharing)
WEBSITE:http://crsny.org/110611/ami-yamasaki
URL:http://crsny.org/110611/ami-yamasaki
CONTACT:212-677-8621
ORGANIZER;CN="Ami Yamasaki":http://conectom.leimay.org/profile/AmiYama
 saki
ATTACH;FMTTYPE="image/jpeg":http://storage.ning.com/topology/rest/1.0/
 file/get/111733576?profile=original
ATTENDEE;ROLE=REQ-PARTICIPANT;PARTSTAT=ACCEPTED;RSVP=TRUE;CN="Ami Yama
 saki":http://conectom.leimay.org/profile/AmiYamasaki
END:VEVENT
END:VCALENDAR
