BEGIN:VCALENDAR
PRODID:NingEventWidget-v1
VERSION:2.0
METHOD:PUBLISH
BEGIN:VTIMEZONE
TZID:America/Anguilla
X-LIC-LOCATION:America/Anguilla
BEGIN:STANDARD
TZOFFSETFROM:-0400
TZOFFSETTO:-0400
TZNAME:AST
DTSTART:19700101T000000
END:STANDARD
END:VTIMEZONE
BEGIN:VEVENT
UID:5831649:Event:3017
DTSTAMP:20260425T213306Z
SUMMARY:Living statue
DESCRIPTION:http://http://www.autoevenementnijkerk.nl\n\nFor more info
 rmation visit http://conectom.leimay.org/events/living-statue
DTSTART;TZID=America/Anguilla:20110604T000000
DTEND;TZID=America/Anguilla:20110604T235900
CATEGORIES:performance
LOCATION:the netherlands
WEBSITE:http://www.autoevenementnijkerk.nl
URL:http://www.autoevenementnijkerk.nl
CONTACT:
ORGANIZER;CN="Sandra Maria Brook":http://conectom.leimay.org/profile/S
 andraMariaBrook
ATTACH;FMTTYPE="image/jpeg":http://storage.ning.com/topology/rest/1.0/
 file/get/111733270?profile=original
ATTENDEE;ROLE=REQ-PARTICIPANT;PARTSTAT=ACCEPTED;RSVP=TRUE;CN="Sandra M
 aria Brook":http://conectom.leimay.org/profile/SandraMariaBrook
END:VEVENT
END:VCALENDAR
