BEGIN:VCALENDAR
PRODID:NingEventWidget-v1
VERSION:2.0
METHOD:PUBLISH
BEGIN:VTIMEZONE
TZID:America/Anguilla
X-LIC-LOCATION:America/Anguilla
BEGIN:STANDARD
TZOFFSETFROM:-0400
TZOFFSETTO:-0400
TZNAME:AST
DTSTART:19700101T000000
END:STANDARD
END:VTIMEZONE
BEGIN:VEVENT
UID:5831649:Event:35554
DTSTAMP:20260422T113515Z
SUMMARY:Life and Times // Nature Theater of Oklahoma // MARATHON
DESCRIPTION:The Public Theater Presents The Soho Rep Production of N
 ature Theater of Oklahoma’s LIFE AND TIMES: Episodes 1-4\nConceived
  and Directed by Pavol Liska and Kelly Copper A Special Engagement
  of Under the Radar 2013January 16 - February 2When can the ordinary b
 ecome extraordinary and the mundane monumental? \"Epic stories need ep
 ic forms,\" says Nature Theater of Oklahoma, making their triumphant h
 omecoming with this bold, exuberant 10-hour celebration of the most ep
 ic story of all: life. LIFE AND TIMES: EPISODES 1-4 charts one person'
 s account of their own life from earliest memory through adolescence. 
 It's about you, too! The four episodes of LIFE AND TIMES being pres
 ented can be seen in installments or together as a \"marathon.\"LIFE A
 ND TIMES, from a conversation with Kristin Worrall, features dramaturg
 y by Florian Malzacher, design by Peter Nigrini, original music by Rob
 ert M. Johanson, Julie LaMendola and Daniel Gower, production manageme
 nt by Dany Naierman and chorus direction by Nora Hertlein. The cast in
 cludes Ilan Bachrach, Elisabeth Conner, Daniel Gower, Gabel Eiben, Ann
 e Gridley, Robert M. Johanson, Matthew Korahais, Julie LaMendola, Alis
 on Weisgall and Kristin Worrall.\n\nFor more information visit http://
 conectom.leimay.org/events/life-and-times-nature-theater-of-oklahoma-m
 arathon
DTSTART;TZID=America/Anguilla:20130202T140000
DTEND;TZID=America/Anguilla:20130203T000000
CATEGORIES:"epic theater", marathon
LOCATION:The Public Theater
WEBSITE:http://tickets.publictheater.org/production/?prod=19713&perf=1
 9723
URL:http://tickets.publictheater.org/production/?prod=19713&perf=19723
CONTACT:
ORGANIZER:
ATTACH;FMTTYPE="image/jpeg":http://storage.ning.com/topology/rest/1.0/
 file/get/111735804?profile=original
ATTENDEE;ROLE=REQ-PARTICIPANT;PARTSTAT=ACCEPTED;RSVP=TRUE;CN="Raul Zbe
 ngheci":http://conectom.leimay.org/profile/RaulZbengheci
END:VEVENT
END:VCALENDAR
