BEGIN:VCALENDAR
PRODID:NingEventWidget-v1
VERSION:2.0
METHOD:PUBLISH
BEGIN:VTIMEZONE
TZID:America/Anguilla
X-LIC-LOCATION:America/Anguilla
BEGIN:STANDARD
TZOFFSETFROM:-0400
TZOFFSETTO:-0400
TZNAME:AST
DTSTART:19700101T000000
END:STANDARD
END:VTIMEZONE
BEGIN:VEVENT
UID:5831649:Event:44324
DTSTAMP:20260424T112547Z
SUMMARY:LEIMAY Work-in-progress of \"Frantic Beauty\"
DESCRIPTION:Sat, February 8, 7pm\nSun, Feb 9, 2pm\n\nThis is the first
  work-in-progress presentation of LEIMAY’s new piece titled Frantic 
 Beauty. Those familiar with our work might know that some of our piece
 s develop through a long process which includes research, workshop, ex
 position, workshop, exposition and so on. Work-in-progress presentati
 ons are simultaneously a wonderful opportunity to discover/uncover our
  pieces and a terrifying exposure of a work that has yet to mature. Fr
 antic Beauty might grow into a full length performance juxtaposing sou
 nd, video, light, movement and kinetic sculptures, that we hope to pre
 miere in New York 2015/16. If you are curious about our process, we we
 lcome you to take part in experiencing the various stages of developme
 nt of this piece; otherwise we hope you will be able to make it to the
  premiere! On a shared bill with there are caves and attics. A HARP 
 Alum PresentationAdditional support provided by the NYC Department of 
 Cultural Affairs in partnership with the City Council.\n\nFor more inf
 ormation visit http://conectom.leimay.org/events/leimay-work-in-progre
 ss
DTSTART;TZID=America/Anguilla:20140208T190000
DTEND;TZID=America/Anguilla:20140209T140000
CATEGORIES:performance
LOCATION:HERE Arts Center
WEBSITE:http://here.org/
URL:http://here.org/
CONTACT:2126470202
ORGANIZER:HERE Arts Center
ATTACH;FMTTYPE="image/jpeg":http://storage.ning.com/topology/rest/1.0/
 file/get/111737727?profile=original
ATTENDEE;ROLE=REQ-PARTICIPANT;PARTSTAT=ACCEPTED;RSVP=TRUE;CN="julie sp
 odek":http://conectom.leimay.org/profile/juliespodek
ATTENDEE;ROLE=REQ-PARTICIPANT;PARTSTAT=ACCEPTED;RSVP=TRUE;CN=LEIMAY:ht
 tp://conectom.leimay.org/profile/LEIMAY
END:VEVENT
END:VCALENDAR
