BEGIN:VCALENDAR
PRODID:NingEventWidget-v1
VERSION:2.0
METHOD:PUBLISH
BEGIN:VTIMEZONE
TZID:America/Anguilla
X-LIC-LOCATION:America/Anguilla
BEGIN:STANDARD
TZOFFSETFROM:-0400
TZOFFSETTO:-0400
TZNAME:AST
DTSTART:19700101T000000
END:STANDARD
END:VTIMEZONE
BEGIN:VEVENT
UID:5831649:Event:2148
DTSTAMP:20260419T094444Z
SUMMARY:LEIMAY Open Class with Ximena Garnica
DESCRIPTION:This Sunday is our last class of the season!\n\nXimena Gar
 nica is the Artistic Director of LEIMAY, an interdisciplinary laborato
 ry of performance and installation art in residency at CAVE. She has b
 een practicing and studying theatre since childhood and has been explo
 ring butoh dance for the past ten years. Her work is constantly questi
 oning the body as a medium and dance, theater, and/or installation as 
 a genre. This class is an opportunity to experience the company’s on
 going training and to be considered for LEIMAY performance and investi
 gation projects.\n\nCOST: $15/CLASS, $10/CLASS FOR NYBK STUDENTS\n\nFo
 r more information visit http://conectom.leimay.org/events/leimay-open
 -class-with-ximena
DTSTART;TZID=America/Anguilla:20101114T150000
DTEND;TZID=America/Anguilla:20101114T180000
CATEGORIES:class
LOCATION:CAVE
WEBSITE:http://leimay.org
URL:http://leimay.org
CONTACT:3478384677
ORGANIZER;CN=LEIMAY:http://conectom.leimay.org/profile/LEIMAY_CAVE
ATTACH;FMTTYPE="image/jpeg":http://storage.ning.com/topology/rest/1.0/
 file/get/111733227?profile=original
ATTENDEE;ROLE=REQ-PARTICIPANT;PARTSTAT=ACCEPTED;RSVP=TRUE;CN=LEIMAY:ht
 tp://conectom.leimay.org/profile/LEIMAY_CAVE
END:VEVENT
END:VCALENDAR
