BEGIN:VCALENDAR
PRODID:NingEventWidget-v1
VERSION:2.0
METHOD:PUBLISH
BEGIN:VTIMEZONE
TZID:America/Anguilla
X-LIC-LOCATION:America/Anguilla
BEGIN:STANDARD
TZOFFSETFROM:-0400
TZOFFSETTO:-0400
TZNAME:AST
DTSTART:19700101T000000
END:STANDARD
END:VTIMEZONE
BEGIN:VEVENT
UID:5831649:Event:75416
DTSTAMP:20260424T010729Z
SUMMARY:SOAK 2017: LEIMAY LUDUS Summer Intensive with Director Ximena 
 Garnica
DESCRIPTION:Encounters with LEIMAY Part 1\nLEIMAY LUDUS Summer Intensi
 ve with Ximena Garnica\n\nThe LEIMAY LUDUS Summer Intensive is envisio
 ned by artistic director Ximena Garnica as a laboratory for developing
  and sharing an instinctive, conscious and rigorous way to cultivate t
 he performer's body. It is constantly reinvented in conversation with 
 internal and external dynamics rather than relying on a singular techn
 ique. LEIMAY LUDUS values training as an act of growing the body throu
 gh embracing it voice, soul, intellect and physicality.\n\n \n\nThe a
 nnual LUDUS Summer Intensive is open to dancers, actors, performers, m
 overs and those interested in investigating the human body's vast poss
 ibilities. Ximena utilizes improvisation as a means of personal explor
 ation, thus accessing each student's individual physical potential so 
 as to develop a unique and individualized movement vocabulary. Exercis
 es offer opportunities to explore internal openness and energy flow; t
 o distinguish different approaches to generating energy and impulses; 
 to activate different body qualities; and to facilitate an awareness o
 f consciousness through the exploration of the unconscious domain.\n\n
  \n\nDuring the LEIMAY LUDUS Summer Intensive, participants will be e
 ngaged in practices which cultivate an individual presence and prepare
  an alert and neutral body that is ready to perform and to be moved.\n
 \n \n\nMay 23rd-26th, 6-10 pm\nMay 27th, 12pm-3pm\n\nSpace is limited
 .\nOnline Registration required.\n\nTuition: $168\n\n\nFor more inform
 ation visit http://conectom.leimay.org/events/leimay-ludus-summer-inte
 nsive-with-director-ximena-garnica
DTSTART;TZID=America/Anguilla:20170523T180000
DTEND;TZID=America/Anguilla:20170527T150000
CATEGORIES:intensive
LOCATION:CAVE, home of LEIMAY
WEBSITE:https://www.facebook.com/events/404375356610411/
URL:https://www.facebook.com/events/404375356610411/
CONTACT:347.838.4677
ORGANIZER;CN="Drew Weinstein":http://conectom.leimay.org/profile/DrewW
 einstein
ATTACH;FMTTYPE="image/jpeg":http://storage.ning.com/topology/rest/1.0/
 file/get/111741633?profile=original
ATTENDEE;ROLE=REQ-PARTICIPANT;PARTSTAT=ACCEPTED;RSVP=TRUE;CN="Drew Wei
 nstein":http://conectom.leimay.org/profile/DrewWeinstein
END:VEVENT
END:VCALENDAR
