BEGIN:VCALENDAR
PRODID:NingEventWidget-v1
VERSION:2.0
METHOD:PUBLISH
BEGIN:VTIMEZONE
TZID:America/Anguilla
X-LIC-LOCATION:America/Anguilla
BEGIN:STANDARD
TZOFFSETFROM:-0400
TZOFFSETTO:-0400
TZNAME:AST
DTSTART:19700101T000000
END:STANDARD
END:VTIMEZONE
BEGIN:VEVENT
UID:5831649:Event:54808
DTSTAMP:20260419T183553Z
SUMMARY:LEIMAY Ludus Lab with theater master Mario Biagini
DESCRIPTION:LEIMAY Ludus Lab with theater master Mario Biagini  Assoc
 iate Director of the Workcenter of Jerzy Grotowski and Thomas Richards
   This LEIMAY Ludus Lab is open to actors, dancers, body-rooted perfor
 mers, or anybody interested in exploring the elements of the actor’s
  craft. Within the whole duration of this LEIMAY Ludus Lab taught by g
 uest director Mario Biagini, participants will explore fundamental ele
 ments of the actor’s craft such as organicity, relation, contact, im
 pulse, intention, action and reaction, the relation between process an
 d form, and strive towards an understanding of the difference between 
 movement and action. Under the direction and guidance of Biagini, part
 icipants will work on the creation of individual and collective actin
 g scenes, on singing ancient traditional songs, and learn elements of 
 the physical training developed at the Workcenter of Jerzy Grotowski a
 nd Thomas Richards over the past twenty-eight years. These modules wil
 l allow participants to approach the basic aspects of practical resear
 ch at the Workcenter, and to discover their own individual and unique 
 approach to creation. Modules will explore the basic but complex const
 itutive elements of the actor’s craft: • Relation: precision / org
 anicity • Relation: tradition / individual work • Relation: ritual
  / drama • Composed movement and rhythm • Singing • Vibration of
  the voice • Body resonators and spatial resonance • Awareness of 
 space and reacting to its constituent elements • Improvisation: the 
 impulses / the vigilant mind • Improvisation within a structure • 
 Search for a precise line and logic of impulses and physical actions: 
 the score  Full Schedule: Monday January 12th-Saturday, January 17th 2
 015, 10:00AM - 6:00PM Detailed Schedule: Module 1: Singing and Organic
  Behavior: Jan 12, 13, 14, (Monday, Tuesday, Wednesday) 10:00AM - 2:00
 PM Module 2: Physical Training: Jan 15, 16, 17, (Thursday, Friday, Sat
 urday) 10:00AM - 2:00PM Module 3: Intentional Action – Spontaneity a
 nd Structure Jan 12, 13, 14, 15, 16, 17, Monday - Saturday afternoons,
  3:00PM - 6:00PM Full Tuition: $756, Module 1 - $240, Module 2 $240, M
 odule 3 $360  Online registration is required. Payment is due at time 
 of registration. Space is limited so we encourage you to register earl
 y.   Early registration and special discounts are only open to those 
 who plan on taking all the modules. LEIMAY Members discounts and other
  discounts valid for online payment only.\n\nUse discount code OS4NG29
 F for 15% off at check out.Early registration discount valid thru Nov 
 15th.\n\nClick here for more information and registration.\n\nJoin us 
 for another LEIMAY Ludus Lab with butoh dancer Mari Osanai, January 28
 th-February 8th!\n\nFor more information visit http://conectom.leimay.
 org/events/leimay-ludus-lab-with-theater-master-mario-biagini
DTSTART;TZID=America/Anguilla:20150112T100000
DTEND;TZID=America/Anguilla:20150117T180000
CATEGORIES:workshop
LOCATION:CAVE home of LEIMAY
WEBSITE:http://leimaymain.cavearts.org/?p=3117
URL:http://leimaymain.cavearts.org/?p=3117
CONTACT:347-838-4677
ORGANIZER;CN=LEIMAY:http://conectom.leimay.org/profile/LEIMAY_CAVE
ATTACH;FMTTYPE="image/jpeg":http://storage.ning.com/topology/rest/1.0/
 file/get/111739127?profile=original
ATTENDEE;ROLE=REQ-PARTICIPANT;PARTSTAT=ACCEPTED;RSVP=TRUE;CN="Carol Mu
 nter":http://conectom.leimay.org/profile/CarolMunter
ATTENDEE;ROLE=REQ-PARTICIPANT;PARTSTAT=ACCEPTED;RSVP=TRUE;CN=LEIMAY:ht
 tp://conectom.leimay.org/profile/LEIMAY_CAVE
END:VEVENT
END:VCALENDAR
