BEGIN:VCALENDAR
PRODID:NingEventWidget-v1
VERSION:2.0
METHOD:PUBLISH
BEGIN:VTIMEZONE
TZID:America/Anguilla
X-LIC-LOCATION:America/Anguilla
BEGIN:STANDARD
TZOFFSETFROM:-0400
TZOFFSETTO:-0400
TZNAME:AST
DTSTART:19700101T000000
END:STANDARD
END:VTIMEZONE
BEGIN:VEVENT
UID:5831649:Event:39978
DTSTAMP:20260420T171140Z
SUMMARY:LEIMAY Ludus Lab with ensemble dancers Andrea Jones and Savina
  Theodorou
DESCRIPTION:This LEIMAY Ludus Training Lab  is open to anyone and ev
 eryone interested in learning about basic ballet principles in additio
 n to receiving a great workout. No dance experience is expected!\nThr
 ough the study of ballet one can gain spatial and temporal awareness, 
 build strength/flexibility, and improve balance and coordination.  Th
 is class gives students the opportunity to learn and explore classical
  ballet technique and terminology without unnecessary pressure or judg
 ement. Enjoy movement and gain understanding and proficiency of basic 
 ballet vocabulary in a fun and friendly learning environment that will
  ameliorate your everyday life.\n\nDates: June 25th, July 2nd, 9th & 1
 6thTimes: 7pm – 9pmPRICE: [Four Classes] $50 / [Single Class] $15\n\
 n\n\nFor more information visit http://conectom.leimay.org/events/leim
 ay-ludus-lab-with-ensemble-dancers-andrea-jones-and-savina-th
DTSTART;TZID=America/Anguilla:20130627T190000
DTEND;TZID=America/Anguilla:20130716T210000
CATEGORIES:workshop
LOCATION:CAVE home of LEIMAY
WEBSITE:http://leimaymain.cavearts.org/?p=1071
URL:http://leimaymain.cavearts.org/?p=1071
CONTACT:
ORGANIZER;CN=LEIMAY:http://conectom.leimay.org/profile/LEIMAY_CAVE
ATTACH;FMTTYPE="image/jpeg":http://storage.ning.com/topology/rest/1.0/
 file/get/111737259?profile=original
ATTENDEE;ROLE=REQ-PARTICIPANT;PARTSTAT=ACCEPTED;RSVP=TRUE;CN=LEIMAY:ht
 tp://conectom.leimay.org/profile/LEIMAY_CAVE
END:VEVENT
END:VCALENDAR
