BEGIN:VCALENDAR
PRODID:NingEventWidget-v1
VERSION:2.0
METHOD:PUBLISH
BEGIN:VTIMEZONE
TZID:America/Anguilla
X-LIC-LOCATION:America/Anguilla
BEGIN:STANDARD
TZOFFSETFROM:-0400
TZOFFSETTO:-0400
TZNAME:AST
DTSTART:19700101T000000
END:STANDARD
END:VTIMEZONE
BEGIN:VEVENT
UID:5831649:Event:75332
DTSTAMP:20260424T024337Z
SUMMARY:SOAK 2017: LEIMAY LUDUS Lab with Physical-Theatre Actor Massim
 iliano Balduzzi
DESCRIPTION:Massimiliano Balduzzi's LUDUS Lab, Travestitura, will expl
 ore principles of physical and vocal practice while playing with a spe
 cific performative playground. Over the course of twenty years of arti
 stic research Balduzzi has created and practiced, alone and in collabo
 ration with others, a physical and vocal training for performers that 
 fosters the discovery of a specific density in the body and voice. Tra
 vestitura will bring density to the performer's body and foster lightn
 ess and the ability to decide in-the-moment in both intense moments of
  dramatic action and the smallest daily movements and stillness.\n\n 
 \n\nMay 29-31, 6pm-10pm\n\nSpace is limited. Online Registration requi
 red.\n\nTuition: $146\n\n\nFor more information visit http://conectom.
 leimay.org/events/leimay-ludus-lab-with-actor-massimiliano-balduzzi
DTSTART;TZID=America/Anguilla:20170529T180000
DTEND;TZID=America/Anguilla:20170531T220000
CATEGORIES:ludus, lab
LOCATION:CAVE, home of LEIMAY
WEBSITE:http://leimaymain.cavearts.org/?p=5405
URL:http://leimaymain.cavearts.org/?p=5405
CONTACT:347.838.4677
ORGANIZER;CN="Drew Weinstein":http://conectom.leimay.org/profile/DrewW
 einstein
ATTACH;FMTTYPE="image/jpeg":http://storage.ning.com/topology/rest/1.0/
 file/get/111741109?profile=original
ATTENDEE;ROLE=REQ-PARTICIPANT;PARTSTAT=ACCEPTED;RSVP=TRUE;CN="Drew Wei
 nstein":http://conectom.leimay.org/profile/DrewWeinstein
END:VEVENT
END:VCALENDAR
