BEGIN:VCALENDAR
PRODID:NingEventWidget-v1
VERSION:2.0
METHOD:PUBLISH
BEGIN:VTIMEZONE
TZID:America/Anguilla
X-LIC-LOCATION:America/Anguilla
BEGIN:STANDARD
TZOFFSETFROM:-0400
TZOFFSETTO:-0400
TZNAME:AST
DTSTART:19700101T000000
END:STANDARD
END:VTIMEZONE
BEGIN:VEVENT
UID:5831649:Event:68650
DTSTAMP:20260419T125158Z
SUMMARY:LEIMAY LUDUS: Guest Teacher Weekly Class with Peter Sciscioli
DESCRIPTION:Voice as Movement with LUDUS Resident Guest Teacher Peter 
 Sciscioli\nEach class includes a physical warm-up, helping participant
 s to increase breath capacity and access vocal resonance in the body. 
 Various exercises for accessing resonance, volume, range, stamina and 
 articulation will be introduced. Participants will explore how the ext
 ension of movement into sound can alter our perception and activate sp
 ace differently than movement alone. Further, participants will experi
 ence a dialogue between spoken language and movement. Finally, partici
 pants will discover how this interplay can expand the variety of choic
 es that are available to performers, allowing for a fuller means of ex
 pression through the body.\nLEIMAY LUDUS: Guest Teacher Weekly Classes
  are open to all levels, drop-ins are welcome and each class will hav
 e a slightly different focus that is progressive over the course of th
 e offered cycle. This class is for anyone interested in exploring or u
 sing voice as a practice and/or in performance.\nClass Subjects:I. Acc
 essing BreathII. Producing soundIII. Working with environment and char
 acterIV. Working with languageV. Working with songVI. Integrated appro
 aches to voice and movement\nAdditionally, on Friday June 3rd followin
 g the last class of this cycle, there will be a 3 hour LUDUS SWATCH 
 LAB with LEIMAY Artistic Director Ximena Garnica and LUDUS Resident G
 uest Teacher Peter Sciscioli.Participants will be introduced to key as
 pects of Peter Sciscioli’s voice practice and LEIMAY’s body condit
 ioning explorations. This lab will be divided into three parts: Experi
 ence back-to-back one-hour sessions with an aspect of each teacher’s
  work, followed by an open exchange, be it conversation or physical pr
 actice, facilitated by Ximena and Peter.No performance experience is r
 equired, this a donation-based LUDUS practice exchange session.\n\nDro
 p-in Class CycleDates and Times: April 29, May 6, 13, 20, 27, June 3 /
  Friday 9.30AM – 11AMTuition: $12 per classAdvance Registration is a
 vailable but not required\n\nFor more information visit http://conecto
 m.leimay.org/events/leimay-ludus-guest-teacher-weekly-class-with-peter
 -sciscioli
DTSTART;TZID=America/Anguilla:20160429T093000
DTEND;TZID=America/Anguilla:20160603T110000
CATEGORIES:class
LOCATION:CAVE home of LEIMAY
WEBSITE:http://leimaymain.cavearts.org/?p=4339
URL:http://leimaymain.cavearts.org/?p=4339
CONTACT:3478384677
ORGANIZER:LEIMAY
ATTACH;FMTTYPE="image/jpeg":http://storage.ning.com/topology/rest/1.0/
 file/get/111740736?profile=original
ATTENDEE;ROLE=REQ-PARTICIPANT;PARTSTAT=ACCEPTED;RSVP=TRUE;CN="Denise S
 hu Mei":http://conectom.leimay.org/profile/DeniseShuMei
END:VEVENT
END:VCALENDAR
