BEGIN:VCALENDAR
PRODID:NingEventWidget-v1
VERSION:2.0
METHOD:PUBLISH
BEGIN:VTIMEZONE
TZID:America/Anguilla
X-LIC-LOCATION:America/Anguilla
BEGIN:STANDARD
TZOFFSETFROM:-0400
TZOFFSETTO:-0400
TZNAME:AST
DTSTART:19700101T000000
END:STANDARD
END:VTIMEZONE
BEGIN:VEVENT
UID:5831649:Event:31584
DTSTAMP:20260419T235154Z
SUMMARY:LEIMAY at the New Museum // Day Four
DESCRIPTION:MR in Residence at the New Museum Rethinking the Imprint o
 f Judson Dance Theater Fifty Years Later \n \nDay Four:  Workshop op
 en to the public lead by Ximena Garnica and Luciana Achugar\n12:30-2:3
 0 / discussion at 2:30 \n \n*This proposal is also being addressed b
 y Luciana Achugar, and both artists will be in dialogue and have a sha
 red presentation at the New Museum on December 2nd. \n \nGuest chore
 ographers share views through performance-studies and conversations on
  the following topic: What are we interested in presenting 'via the bo
 dy' currently and into the future? Imagine a future body.\n \nXimena 
 Garnica - LEIMAY in Residence at the New MuseumFREE with New Museum ad
 mission location: New Museum, 235 Bowery www.newmuseum.org\n\nThe publ
 ic is invited to the following OPEN PERFORMANCE-STUDIES, WORKSHOPS AND
  DISCUSSIONS: (FREE with New Museum Admission) \n\n\n\nPARTICIPATING A
 RTISTS:\nDay One Guest Choreographers:\nKira Alker\nMaximilian Balduzz
 i Yanira Castro\nRachel Cohen\nCori Kresge\nElke Luyten\nLaura Peterso
 n\nSam Pinkleton\nSilas Riener\nJason Somma Yara Travieso\n\n\nDay Two
  and Three  Guest Performers and LEIMAY members:\nAndrew Braddock** 
 \nTara Fenamore\nJames Gardella\nJeremy Goren\nCesar Reyes Lopez Miyu 
 Leilani\nElizabeth McAuliffe **\nZave Martohardjono\nEija Ranta**\nMi
 chael Ring\nJose Rivera\nSavina Theodorou**\nAlex Vizzi\nAlex Franz Ze
 hetbauer\nIan Wen\n\n**LEIMAY current company member\n\nLEIMAY's resid
 ency at the New Museum also serves as research for the company's upcom
 ing new work, Becomings, to be shown at the BAM Fisher Theater in Sept
 ember 2013.\n \nOn September 16, Movement Research (MR) solicited que
 stions from the greater MR community with regards to the imprint that 
 Judson Dance Theater (1962–64) continues to make on contemporary per
 formance. Four questions were selected by attendees as focus topics fo
 r further investigation by artists nominated to lead a series of week-
 long performance laboratories and open rehearsals at the New Museum. T
 hese residencies will culminate in an evening filled with performance,
  experimentation, and lively debate on December 16 at 3pm. \nMR in Re
 sidence at the New MuseumThrough a series of discussions, presentation
 s, artist residencies, and town hall meetings, Movement Research recon
 siders the legacy, mythology, and permutations of influence that conti
 nue to echo from the occasion of Judson Dance Theater (1962-64).Part o
 f New Museum’s RE:NEW RE:PLAY residency seriesCo-presented with Move
 ment Research\n \n\nFor more information visit http://conectom.leimay
 .org/events/leimay-at-the-new-museum-day-four
DTSTART;TZID=America/Anguilla:20121202T123000
DTEND;TZID=America/Anguilla:20121202T153000
CATEGORIES:performance, workshop
LOCATION:New Museum
WEBSITE:http://www.newmuseum.org/calendar/view/movement-research-in-re
 sidence-with-luciana-achugar-and-ximena-garnica
URL:http://www.newmuseum.org/calendar/view/movement-research-in-reside
 nce-with-luciana-achugar-and-ximena-garnica
CONTACT:
ORGANIZER:Movement Research and the New Museum
ATTACH;FMTTYPE="image/jpeg":http://storage.ning.com/topology/rest/1.0/
 file/get/111735482?profile=original
ATTENDEE;ROLE=REQ-PARTICIPANT;PARTSTAT=ACCEPTED;RSVP=TRUE;CN=LEIMAY:ht
 tp://conectom.leimay.org/profile/LEIMAY_CAVE
END:VEVENT
END:VCALENDAR
