BEGIN:VCALENDAR
PRODID:NingEventWidget-v1
VERSION:2.0
METHOD:PUBLISH
BEGIN:VTIMEZONE
TZID:America/Anguilla
X-LIC-LOCATION:America/Anguilla
BEGIN:STANDARD
TZOFFSETFROM:-0400
TZOFFSETTO:-0400
TZNAME:AST
DTSTART:19700101T000000
END:STANDARD
END:VTIMEZONE
BEGIN:VEVENT
UID:5831649:Event:52024
DTSTAMP:20260424T130356Z
SUMMARY:LEIMAY Artworks: \"Thresholds\" in Crossing Over - BEAT Festiv
 al
DESCRIPTION:LEIMAY will celebrate life and death with a new work, “T
 hresholds,” created specially for the mausoleums at Green-Wood Cemet
 ery. “Thresholds” explores the fragility and resilience of life th
 rough a rising and falling dance at the threshold of death. LEIMAY per
 formers include Baptiste Andre, Masanori Asahara, Maurizio Campani, Xi
 mena Garnica, Georgia Johnson, Andrea Jones, Joao Carlos Pinheiro Mace
 do, Liz McAuliffe, Jeremy Slater, and Raul Zbengheci.\n \nLEIMAY’s 
 performance is part of a showcase called Crossing Over: A Performance 
 Adventure In Green-Wood Cemetery, featuring four site-specific dance p
 erformances, each created by a Brooklyn-based choreographer, with tour
 s by the exceptional Atlas Obscura. The setting is humbling. Located i
 n Sunset Park, Green-Wood is a National Historic Landmark with 478 acr
 es of stunning architecture, statuary, hills, valleys, ponds and paths
 . Its 560,000 permanent residents include Jean-Michel Basquiat, Leonar
 d Bernstein, the Steinway family, and other prominent art world figure
 s. Other choreographers creating work for Crossing Over are Elisabet T
 orras Aguilera, Sophia Schrank, and Shirel Jones, each presenting high
 ly distinctive sets. Together with Atlas Obsucra, our performances wil
 l highlight tombs from New York’s performing arts history, and concl
 ude within the cemetery’s hallowed catacombs.\n\nFriday & Saturday, 
 September 12 & 13 | 7:30pm, 7:50pm, 8:10pm, 8:30pm | $35\nGreen-Wood C
 emetery\n500 25th St | Brooklyn, NY 11232\nNote: LEIMAY performance is
  10 minutes long and each tour lasts 40 minutes.\nTickets\n\nFor more 
 information visit http://conectom.leimay.org/events/leimay-artworks-th
 resholds-in-crossing-over-beat-festival
DTSTART;TZID=America/Anguilla:20140912T193000
DTEND;TZID=America/Anguilla:20140913T220000
CATEGORIES:dance, performance
LOCATION:Green-Wood Cemetery
WEBSITE:http://leimaymain.cavearts.org/?p=2881
URL:http://leimaymain.cavearts.org/?p=2881
CONTACT:347-838-4677
ORGANIZER;CN=LEIMAY:http://conectom.leimay.org/profile/LEIMAY_CAVE
ATTACH;FMTTYPE="image/jpeg":http://storage.ning.com/topology/rest/1.0/
 file/get/111738787?profile=original
ATTENDEE;ROLE=REQ-PARTICIPANT;PARTSTAT=ACCEPTED;RSVP=TRUE;CN=LEIMAY:ht
 tp://conectom.leimay.org/profile/LEIMAY_CAVE
END:VEVENT
END:VCALENDAR
