BEGIN:VCALENDAR
PRODID:NingEventWidget-v1
VERSION:2.0
METHOD:PUBLISH
BEGIN:VTIMEZONE
TZID:America/Anguilla
X-LIC-LOCATION:America/Anguilla
BEGIN:STANDARD
TZOFFSETFROM:-0400
TZOFFSETTO:-0400
TZNAME:AST
DTSTART:19700101T000000
END:STANDARD
END:VTIMEZONE
BEGIN:VEVENT
UID:5831649:Event:25187
DTSTAMP:20260419T223832Z
SUMMARY:Lecture Demonstration & Workshop on Augmented Reality with Mar
 k Skwarek
DESCRIPTION:\nLecture: May 6th 11:30am – 1:00pm – free Workshop: M
 ay 6th 2:00 – 5:00pm – $15 (donation)\nRegister\n\nMark Skwarek fr
 om the Manifest.AR group will lead a workshop on augmented reality [AR
 ] covering it’s uses in Art and Activism. There will be a survey of 
 important and current work followed by a hands on tutorial.\nAugmented
  Reality (AR) creates Coexistent Spacial Realities, in which Anything 
 is possible – Anywhere! The AR Future is without boundaries between 
 the Real and the Virtual. In the AR Future we become the Media. Freein
 g the virtual from a stagnant screen we transform data into physical, 
 Real-Time Space. Augmented Reality is a new form of art, but it is ant
 i-art. It is primitive, which amplifies its viral potency. It is Bad P
 ainting challenging the definition of Good Painting. It shows up in th
 e wrong places. It takes the stage without permission. It is Relationa
 l Conceptual Art that Self-Actualizes.\nWHAT TO BRING:\n1. A fully cha
 rged smart phone or pad: iPad2, 3, iPhone 3gs or newer, most android p
 hones work. 2. A fully charged laptop that can connect to the internet
 . 3. A fully charged digital camera that can connect to the laptop. 4.
  Logos or images seen from your everyday experience.\n \nFor more inf
 ormation about Mark and his work please visit markskwarek.com |manif
 estar.info\n\nRegister\nCoupon discount code: WetWorkshop2\n\n\nFor mo
 re information visit http://conectom.leimay.org/events/lecture-demonst
 ration-workshop-on-augmented-reality-with-mark-skw
DTSTART;TZID=America/Anguilla:20120506T113000
DTEND;TZID=America/Anguilla:20120506T170000
CATEGORIES:lecture, workshop
LOCATION:CAVE
WEBSITE:http://www.cavearts.org/
URL:http://www.cavearts.org/
CONTACT:
ORGANIZER;CN=LEIMAY:http://conectom.leimay.org/profile/LEIMAY_CAVE
ATTACH;FMTTYPE="image/jpeg":http://storage.ning.com/topology/rest/1.0/
 file/get/111733913?profile=original
ATTENDEE;ROLE=REQ-PARTICIPANT;PARTSTAT=ACCEPTED;RSVP=TRUE;CN="Theresa 
 Magario tm":http://conectom.leimay.org/profile/TheresaMagario_tm
ATTENDEE;ROLE=REQ-PARTICIPANT;PARTSTAT=ACCEPTED;RSVP=TRUE;CN=LEIMAY:ht
 tp://conectom.leimay.org/profile/LEIMAY_CAVE
END:VEVENT
END:VCALENDAR
