BEGIN:VCALENDAR
PRODID:NingEventWidget-v1
VERSION:2.0
METHOD:PUBLISH
BEGIN:VTIMEZONE
TZID:America/Anguilla
X-LIC-LOCATION:America/Anguilla
BEGIN:STANDARD
TZOFFSETFROM:-0400
TZOFFSETTO:-0400
TZNAME:AST
DTSTART:19700101T000000
END:STANDARD
END:VTIMEZONE
BEGIN:VEVENT
UID:5831649:Event:28132
DTSTAMP:20260419T204754Z
SUMMARY:Laura Vitale: White Sands Opening
DESCRIPTION:With inspiration drawn from a research trip to White Sands
  National Monument in New Mexico, Laura Vitale will create a temporary
  audio-visual installation from very large painted and drawn balloons,
  amplified with contact microphones. When agitated, the balloons vibra
 te with low rhythmic tones reminiscent of vintage sound effects.  The
  hanging, slow movement and large spheroid curves of the surfaces of t
 he balloons evoke the otherworldly experience of being out in the gyps
 um dunes of White Sands.\nLaura Vitale’s work orients around sound, 
 also utilizing video, drawing, photography, sculpture, and performance
 . She recently completed a residency with Recess Activities in SoHo. S
 he has made commissioned installations and performances for WNYC and I
 ssue Project Room, been a Van Lier Fellow at Harvestworks Digital Medi
 a Arts Center, and received a New York State Council on the Arts Indiv
 idual Artist Grant.\n\nFor more information visit http://conectom.leim
 ay.org/events/laura-vitale-white-sands-opening
DTSTART;TZID=America/Anguilla:20121102T180000
DTEND;TZID=America/Anguilla:20121102T210000
CATEGORIES:sound, installation
LOCATION:HarvestWorks
WEBSITE:http://www.harvestworks.org/nov-2-4-laura-vitale-white-sands/
URL:http://www.harvestworks.org/nov-2-4-laura-vitale-white-sands/
CONTACT:
ORGANIZER;CN="Raul Zbengheci":http://conectom.leimay.org/profile/RaulZ
 bengheci
ATTACH;FMTTYPE="image/jpeg":http://storage.ning.com/topology/rest/1.0/
 file/get/111734641?profile=original
ATTENDEE;ROLE=REQ-PARTICIPANT;PARTSTAT=ACCEPTED;RSVP=TRUE;CN="Raul Zbe
 ngheci":http://conectom.leimay.org/profile/RaulZbengheci
END:VEVENT
END:VCALENDAR
