BEGIN:VCALENDAR
PRODID:NingEventWidget-v1
VERSION:2.0
METHOD:PUBLISH
BEGIN:VTIMEZONE
TZID:America/Anguilla
X-LIC-LOCATION:America/Anguilla
BEGIN:STANDARD
TZOFFSETFROM:-0400
TZOFFSETTO:-0400
TZNAME:AST
DTSTART:19700101T000000
END:STANDARD
END:VTIMEZONE
BEGIN:VEVENT
UID:5831649:Event:78803
DTSTAMP:20260419T205728Z
SUMMARY:Late Night at National Sawdust: Analog Dreams
DESCRIPTION:Podcast and live radio collide in a concert featuring musi
 c from the dawn of electronica.  Long before digital synths, samplers
  and looping software, composers and musicians used reel to reel tapes
  to explore a fascinating sound world.\n\nAnalog Dreams is a live tapi
 ng of Relevant Tones, a podcast featuring living composers from around
  the world. In an exciting twist this taping will be heard live on WKC
 R in New York and WFMT in Chicago simultaneously.\n\nNational Sawdust 
 is the hippest new music venue in Williamsburg.  Have a drink and enj
 oy fascinating sounds from the dawn of electronic music.\n\n\n\n\nFor 
 more information visit http://conectom.leimay.org/events/late-night-at
 -national-sawdust-analog-dreams
DTSTART;TZID=America/Anguilla:20170721T213000
DTEND;TZID=America/Anguilla:20170721T234500
CATEGORIES:"concert/broadcast"
LOCATION:National Sawdust
WEBSITE:https://www.google.com/maps/place/National+Sawdust/@40.7189016
 ,-73.9635282,17z/data=!3m1!4b1!4m5!3m4!1s0x89c25967169bb809:0x935088c6
 f239622a!8m2!3d40.7189016!4d-73.9613395
URL:https://www.google.com/maps/place/National+Sawdust/@40.7189016,-73
 .9635282,17z/data=!3m1!4b1!4m5!3m4!1s0x89c25967169bb809:0x935088c6f239
 622a!8m2!3d40.7189016!4d-73.9613395
CONTACT:(646) 779-8455
ORGANIZER;CN="Seth Boustead":http://conectom.leimay.org/profile/SethBo
 ustead
ATTACH;FMTTYPE="image/jpeg":http://storage.ning.com/topology/rest/1.0/
 file/get/111741579?profile=original
ATTENDEE;ROLE=REQ-PARTICIPANT;PARTSTAT=ACCEPTED;RSVP=TRUE;CN="Seth Bou
 stead":http://conectom.leimay.org/profile/SethBoustead
END:VEVENT
END:VCALENDAR
