BEGIN:VCALENDAR
PRODID:NingEventWidget-v1
VERSION:2.0
METHOD:PUBLISH
BEGIN:VTIMEZONE
TZID:America/Anguilla
X-LIC-LOCATION:America/Anguilla
BEGIN:STANDARD
TZOFFSETFROM:-0400
TZOFFSETTO:-0400
TZNAME:AST
DTSTART:19700101T000000
END:STANDARD
END:VTIMEZONE
BEGIN:VEVENT
UID:5831649:Event:75607
DTSTAMP:20260423T232915Z
SUMMARY:La MaMa Moves! Dance Festival
DESCRIPTION:Now in its 12th season, La MaMa Moves! dance festival is t
 aking place in all La MaMa venues. This wide range of dance programmin
 g supports La MaMa’s commitment to presenting diverse performance st
 yles that challenge audience’s perception of dance and reflects La M
 aMa’s longstanding mission to present performance that transcends po
 litics and unifies cultures.\n\nFor more information visit http://cone
 ctom.leimay.org/events/la-mama-moves-dance-festival
DTSTART;TZID=America/Anguilla:20170518T190000
DTEND;TZID=America/Anguilla:20170604T180000
CATEGORIES:dance, festival
LOCATION:La MaMa Experimental Theatre Club
WEBSITE:http://www.lamama.org
URL:http://www.lamama.org
CONTACT:212-352-3101
ORGANIZER;CN="La MaMa":http://conectom.leimay.org/profile/LaMaMa
ATTACH;FMTTYPE="image/jpeg":http://storage.ning.com/topology/rest/1.0/
 file/get/111741743?profile=original
ATTENDEE;ROLE=REQ-PARTICIPANT;PARTSTAT=ACCEPTED;RSVP=TRUE;CN="La MaMa"
 :http://conectom.leimay.org/profile/LaMaMa
END:VEVENT
END:VCALENDAR
