BEGIN:VCALENDAR
PRODID:NingEventWidget-v1
VERSION:2.0
METHOD:PUBLISH
BEGIN:VTIMEZONE
TZID:America/Anguilla
X-LIC-LOCATION:America/Anguilla
BEGIN:STANDARD
TZOFFSETFROM:-0400
TZOFFSETTO:-0400
TZNAME:AST
DTSTART:19700101T000000
END:STANDARD
END:VTIMEZONE
BEGIN:VEVENT
UID:5831649:Event:39401
DTSTAMP:20260424T115838Z
SUMMARY:Karen Finley // Sext Me if You Can
DESCRIPTION:“Sext Me if You Can” is an interactive performance ins
 tallation taking place in the New Museum Lobby in full view of Museum 
 visitors. For this performance, Karen Finley creates a limited edition
  of paintings inspired by “sexts” that she receives from participa
 ting patrons. Participation takes the form of a commission and require
 s a ten-minute private and anonymous sitting on-site during announced 
 performance times (bring your own cell phone!). Through this process, 
 the erotic exchange with the artist—bound by rules of commerce—tra
 nsforms into a lasting and collectible work of art. For more informati
 on on how to participate, please see below.\n\nFor more information vi
 sit http://conectom.leimay.org/events/karen-finley-sext-me-if-you-can
DTSTART;TZID=America/Anguilla:20130523T180000
DTEND;TZID=America/Anguilla:20130523T210000
CATEGORIES:"performance installation", "nea 4 in residence"
LOCATION:New Museum
WEBSITE:http://www.newmuseum.org/calendar/view/sext-me-if-you-can-by-k
 aren-finley-performance-and-installation
URL:http://www.newmuseum.org/calendar/view/sext-me-if-you-can-by-karen
 -finley-performance-and-installation
CONTACT:
ORGANIZER:
ATTACH;FMTTYPE="image/jpeg":http://storage.ning.com/topology/rest/1.0/
 file/get/111736487?profile=original
ATTENDEE;ROLE=REQ-PARTICIPANT;PARTSTAT=ACCEPTED;RSVP=TRUE;CN="Raul Zbe
 ngheci":http://conectom.leimay.org/profile/RaulZbengheci
END:VEVENT
END:VCALENDAR
