BEGIN:VCALENDAR
PRODID:NingEventWidget-v1
VERSION:2.0
METHOD:PUBLISH
BEGIN:VTIMEZONE
TZID:America/Anguilla
X-LIC-LOCATION:America/Anguilla
BEGIN:STANDARD
TZOFFSETFROM:-0400
TZOFFSETTO:-0400
TZNAME:AST
DTSTART:19700101T000000
END:STANDARD
END:VTIMEZONE
BEGIN:VEVENT
UID:5831649:Event:72668
DTSTAMP:20260419T094314Z
SUMMARY:Judith Barnes at Gowanus Open Studios
DESCRIPTION:Recent ceramic sculpture by Judith Barnes\n\nFor more info
 rmation visit http://conectom.leimay.org/events/judith-barnes-at-gowan
 us-open-studios
DTSTART;TZID=America/Anguilla:20161015T120000
DTEND;TZID=America/Anguilla:20161016T180000
CATEGORIES:art, exhibit
LOCATION:New Clay Studios
WEBSITE:
URL:
CONTACT:
ORGANIZER;CN="Judith Barnes":http://conectom.leimay.org/profile/Judith
 Barnes
ATTACH;FMTTYPE="image/jpeg":http://storage.ning.com/topology/rest/1.0/
 file/get/111740803?profile=original
ATTENDEE;ROLE=REQ-PARTICIPANT;PARTSTAT=ACCEPTED;RSVP=TRUE;CN="Judith B
 arnes":http://conectom.leimay.org/profile/JudithBarnes
END:VEVENT
END:VCALENDAR
