BEGIN:VCALENDAR
PRODID:NingEventWidget-v1
VERSION:2.0
METHOD:PUBLISH
BEGIN:VTIMEZONE
TZID:America/Anguilla
X-LIC-LOCATION:America/Anguilla
BEGIN:STANDARD
TZOFFSETFROM:-0400
TZOFFSETTO:-0400
TZNAME:AST
DTSTART:19700101T000000
END:STANDARD
END:VTIMEZONE
BEGIN:VEVENT
UID:5831649:Event:36383
DTSTAMP:20260422T213300Z
SUMMARY:Jennifer Monson/iLAND // Live Dancing Archive
DESCRIPTION:Jennifer Monsonâ€™s newest work,Â Live Dancing Archive,Â i
 s a visceral exploration of the dancing body as a physical archive of 
 experience and place. Drawing from more than a decade of dance-based e
 nvironmental research,Â Live Dancing ArchiveÂ has been choreographed u
 sing material from video documentation ofÂ TheÂ BIRD BRAINÂ Osprey Mig
 rationÂ (2002)â€”an eight-week dance project along the Atlantic Flyway
 â€”in addition to improvised scores accumulated over the past decade. 
 The full evening-length solo performance is accompanied by two additio
 nal components,Â a video installation and a digital archive,Â which qu
 ery the process of archiving as well as the shifting nature of dance a
 nd environmental phenomena. Â   ProposingÂ that the body has the possi
 bility of archiving and revisiting multiple scales of experience, Mons
 on specifically looks at the way experiences of the environment and ec
 ological dependencies are registered through physical movement. The wo
 rk further explores how Monsonâ€™s navigation of her own queer, femini
 st, and animal-like body has shaped relationships to cultural and soci
 al phenomena.Â Live Dancing ArchiveÂ negotiates and explores what a qu
 eer ecology might offer for dancing bodies and rapidly shifting concep
 tions of environment and place.\nCollaborators include video installat
 ion byÂ Robin Vachal, sound design byÂ Jeff Kolar, lighting design byÂ
  Joe Levasseur, costume design byÂ Susan Becker, and digital archive d
 esign byÂ Young Jae Bae.  The full video installation will be on view 
 in the theater Tuesday through Friday, 12â€“6pm and Saturday, 11amâ€“6
 pm from February 15â€“23.\n\nFor more information visit http://conecto
 m.leimay.org/events/jennifer-monson-iland-live-dancing-archive-5
DTSTART;TZID=America/Anguilla:20130223T200000
DTEND;TZID=America/Anguilla:20130223T213000
CATEGORIES:"performative installation", "dance videos"
LOCATION:The Kitchen
WEBSITE:http://www.thekitchen.org/event/343/0/1/
URL:http://www.thekitchen.org/event/343/0/1/
CONTACT:
ORGANIZER:
ATTACH;FMTTYPE="image/jpeg":http://storage.ning.com/topology/rest/1.0/
 file/get/111735852?profile=original
ATTENDEE;ROLE=REQ-PARTICIPANT;PARTSTAT=ACCEPTED;RSVP=TRUE;CN="mike dot
 hal":http://conectom.leimay.org/profile/mikedothal
ATTENDEE;ROLE=REQ-PARTICIPANT;PARTSTAT=ACCEPTED;RSVP=TRUE;CN="julie sp
 odek":http://conectom.leimay.org/profile/juliespodek
ATTENDEE;ROLE=REQ-PARTICIPANT;PARTSTAT=ACCEPTED;RSVP=TRUE;CN="Raul Zbe
 ngheci":http://conectom.leimay.org/profile/RaulZbengheci
END:VEVENT
END:VCALENDAR
