BEGIN:VCALENDAR
PRODID:NingEventWidget-v1
VERSION:2.0
METHOD:PUBLISH
BEGIN:VTIMEZONE
TZID:America/Anguilla
X-LIC-LOCATION:America/Anguilla
BEGIN:STANDARD
TZOFFSETFROM:-0400
TZOFFSETTO:-0400
TZNAME:AST
DTSTART:19700101T000000
END:STANDARD
END:VTIMEZONE
BEGIN:VEVENT
UID:5831649:Event:46138
DTSTAMP:20260424T010618Z
SUMMARY:Jellyfish Eyes screening & post talk w/ Takashi Murakami
DESCRIPTION:Following the long-awaited New York premiere of his first 
 live-action feature film Jellyfish Eyes, Takashi Murakami who is one o
 f the most influential artists to emerge from Asia in the late 20th Ce
 ntury; successfully bridges fine art, design, animation, fashion and p
 op culture, will give a free talk at the Elinor Bunin Munroe Film Cen
 ter Amphitheater.\n\nIn Jellyfish Eyes, Murakami transforms the class
 ic cinematic trope of the new kid on the block into a genre-defying ad
 venture. Having recently lost his father, young Masashi moves with his
  mother to a small city in the Japanese countryside. But when he disco
 vers that their new apartment is already inhabited by a pint-sized, gr
 avity-defying creature, Masashi begins to pull back the curtain on thi
 s sleepy town and finds that very little is what it appears to be. As 
 a connoisseur of Japanese popular culture, from children’s manga and
  anime to classic monster movies, Murakami packs his film with a delir
 ious abundance of ideas and imagery. What other coming-of-age fantasy 
 has romance, battling CGI avatars, nuclear intrigue, rival doppelgäng
 ers, and a giant monster?\n\nTickets for the screening are $13 for gen
 eral public, $9 for Students/Seniors; and $8 for Film Society members.
  Post talk is free! Visit Filmlinc.com to purchase, and for more inf
 ormation.\n\nFor more information visit http://conectom.leimay.org/eve
 nts/jellyfish-eyes-screening-post-talk-w-takashi-murakami
DTSTART;TZID=America/Anguilla:20140601T160000
DTEND;TZID=America/Anguilla:20140601T200000
CATEGORIES:screening
LOCATION:Elinor Bunin Munroe Film Center Amphitheater
WEBSITE:http://www.filmlinc.com/films/series/jellyfish-eyes
URL:http://www.filmlinc.com/films/series/jellyfish-eyes
CONTACT:
ORGANIZER;CN=LEIMAY:http://conectom.leimay.org/profile/LEIMAY_CAVE
ATTACH;FMTTYPE="image/jpeg":http://storage.ning.com/topology/rest/1.0/
 file/get/111738613?profile=original
ATTENDEE;ROLE=REQ-PARTICIPANT;PARTSTAT=ACCEPTED;RSVP=TRUE;CN=LEIMAY:ht
 tp://conectom.leimay.org/profile/LEIMAY_CAVE
END:VEVENT
END:VCALENDAR
