BEGIN:VCALENDAR
PRODID:NingEventWidget-v1
VERSION:2.0
METHOD:PUBLISH
BEGIN:VTIMEZONE
TZID:America/Anguilla
X-LIC-LOCATION:America/Anguilla
BEGIN:STANDARD
TZOFFSETFROM:-0400
TZOFFSETTO:-0400
TZNAME:AST
DTSTART:19700101T000000
END:STANDARD
END:VTIMEZONE
BEGIN:VEVENT
UID:5831649:Event:39180
DTSTAMP:20260424T131428Z
SUMMARY:Jean-Baptiste Sastre // PhÃ¨dre les oiseaux
DESCRIPTION:N.Y. Premiere\nMay 21 - 24 + 28 - 29, 2013\nText by FrÃ©dÃ
 ©ric BoyerEnglish Translation by Cole SwensenDirected by Jean-Baptiste
  SastreDramaturgy by Ellen HammerFeaturing Hiam Abbass andÂ Ntare Guma
  Mbaho MwineAcclaimed actors Hiam Abbass and Ntare Guma Mbaho Mwine st
 ar inÂ PhÃ¨dre les oiseauxÂ (Phaedra the birds), a new theater work dr
 awing from the tragic Greek figures Phaedra and Hippolytus. Going beyo
 nd a retelling of the classic story,Â PhÃ¨dre les oiseauxÂ reimagines 
 the tale of forbidden love, examining through a modern lens themes of 
 morality, sexual intrigue, and betrayal that inhabit cultural myths.\n
 Based on an original text that has been translated into several langua
 ges, this international theater project assembles its Greek chorus fro
 m each city where the work is presented. The production at BAC feature
 s community performers from the group HaÃ¯tian-Americans in Action.\nP
 hÃ¨dre les oiseauxÂ (Phaedra the birds) is performed primarily in Engl
 ish, with the Greek chorus performing in English, French, and HaÃ¯tian
  Creole.Â \nMAY 21 - 24TUE - FRI / 7:30 PMMAY 28 + 29TUE + WED / 7:30 
 PM\n\n\n\nFor more information visit http://conectom.leimay.org/events
 /jean-baptiste-sastre-phedre-les-oiseaux
DTSTART;TZID=America/Anguilla:20130521T193000
DTEND;TZID=America/Anguilla:20130529T213000
CATEGORIES:"chorus performance", "theater performance"
LOCATION:Baryshnikov Arts Center
WEBSITE:http://www.bacnyc.org/performances/performance/phedre
URL:http://www.bacnyc.org/performances/performance/phedre
CONTACT:
ORGANIZER:
ATTACH;FMTTYPE="image/jpeg":http://storage.ning.com/topology/rest/1.0/
 file/get/111736518?profile=original
ATTENDEE;ROLE=REQ-PARTICIPANT;PARTSTAT=ACCEPTED;RSVP=TRUE;CN="Raul Zbe
 ngheci":http://conectom.leimay.org/profile/RaulZbengheci
END:VEVENT
END:VCALENDAR
